BEGIN:VCALENDAR
VERSION:2.0
PRODID:-//wp-events-plugin.com//7.2.3.1//EN
TZID:Europe/Warsaw
X-WR-TIMEZONE:Europe/Warsaw
BEGIN:VEVENT
UID:15237@night4u.pl
DTSTART;TZID=Europe/Warsaw:20190520T210000
DTEND;TZID=Europe/Warsaw:20190520T235000
DTSTAMP:20190507T203937Z
URL:https://night4u.pl/wydarzenia/kino-plenerowe-fmf-2019/
SUMMARY:Kino Plenerowe FMF 2019
DESCRIPTION:Rok 1922\, Nowy Jork. Amerykański sen\, intrygujący świat za
 możnych ludzi i wystawne przyjęcia z muzyką jazzową w tle. To wszystko
  już podczas podczas plenerowego pokazu filmowego organizowanego w ramach
  12. Edycji Festiwalu Muzyki Filmowej w Krakowie. W tym roku zaprezentujem
 y historię nieszczęśliwej miłości młodego milionera\, który po pię
 ciu latach spotyka swoją dawną ukochaną. Mężczyzna próbuje odbudowa
 ć stare uczucie i sprostać wyzwaniom jakie się z tym wiążą. Film jes
 t opowieścią nie tylko o miłości\, ale przede wszystkim o obsesjach\, 
 marzeniach\, pogonią za pieniędzmi i próbie spełnienia amerykańskiego
  snu. Fantastyczna muzyka\, bajkowy charakter\, wysokopółkowa scenografi
 a i genialna gra aktorska Leonardo Di Caprio oraz Carey Mulligan sprawiaj
 ą\, że ten film to niezapomniane widowisko i obowiązkowa pozycja dla fa
 nów amerykańskiej kinematografii.\n\nWstęp wolny! \nChodźcie 
ATTACH;FMTTYPE=image/jpeg:https://night4u.pl/wp-content/uploads/2019/05/37
 654_image_59531199_10157606345258646_4981570392960270336_o.jpg
CATEGORIES:małopolskie
LOCATION:Powiśle 11\, Kraków\, Poland
GEO:50.054693;19.932899
X-APPLE-STRUCTURED-LOCATION;VALUE=URI;X-ADDRESS=Kraków\, Poland;X-APPLE-RA
 DIUS=100;X-TITLE=Powiśle 11:geo:50.054693,19.932899
END:VEVENT
BEGIN:VTIMEZONE
TZID:Europe/Warsaw
X-LIC-LOCATION:Europe/Warsaw
BEGIN:DAYLIGHT
DTSTART:20190331T030000
TZOFFSETFROM:+0100
TZOFFSETTO:+0200
TZNAME:CEST
END:DAYLIGHT
END:VTIMEZONE
END:VCALENDAR