BEGIN:VCALENDAR
VERSION:2.0
PRODID:-//wp-events-plugin.com//7.2.3.1//EN
TZID:Europe/Warsaw
X-WR-TIMEZONE:Europe/Warsaw
BEGIN:VEVENT
UID:18987@night4u.pl
DTSTART;TZID=Europe/Warsaw:20190615T221300
DTEND;TZID=Europe/Warsaw:20190616T050000
DTSTAMP:20190612T190709Z
URL:https://night4u.pl/wydarzenia/kiss-my-house-johnny-w-mj-sax/
SUMMARY:Kiss My House | Johnny W. & Mj Sax
DESCRIPTION:"Kiss My House" to nowy cykl imprez w klubie Room13 podczas kt
 órego będziecie mogli usłyszeć wasze ulubione kawałki w housowych rem
 ixach. Najlepsze komercyjne hity wzbogacone klasycznym housem - to brzmi j
 ak plan na sobotę! ?\n\nJust come and Kiss My House! ?\n\nZa djką niezas
 tąpiony Johnny W ! \nA na saksofonie fenomenalny MJ.SAX !\n\nStart 22:13\
 nWstęp 20 PLN \nLista FB Free do 0:13\nSelekcja\n\nPatronat Medialny\nRad
 io ESKA\n\n\nREZERWACJE \n732 538 638 \ninfo@room13.pl\n__________________
 ____\n\nwww.room13.pl\nfb.com/room13club\ninstagram.com/room13club
ATTACH;FMTTYPE=image/jpeg:https://night4u.pl/wp-content/uploads/2019/06/45
 917_image_64221532_2522256904464685_2851148253435527168_o.jpg
CATEGORIES:mazowieckie
LOCATION:ROOM 13 Club\, ul. Mazowiecka 13\, Warsaw\, 00-052\, Poland
GEO:52.237999;21.012896
X-APPLE-STRUCTURED-LOCATION;VALUE=URI;X-ADDRESS=ul. Mazowiecka 13\, Warsaw\
 , 00-052\, Poland;X-APPLE-RADIUS=100;X-TITLE=ROOM 13 Club:geo:52.237999,21
 .012896
END:VEVENT
BEGIN:VTIMEZONE
TZID:Europe/Warsaw
X-LIC-LOCATION:Europe/Warsaw
BEGIN:DAYLIGHT
DTSTART:20190331T030000
TZOFFSETFROM:+0100
TZOFFSETTO:+0200
TZNAME:CEST
END:DAYLIGHT
END:VTIMEZONE
END:VCALENDAR