BEGIN:VCALENDAR
VERSION:2.0
PRODID:-//wp-events-plugin.com//7.2.3.1//EN
TZID:Europe/Warsaw
X-WR-TIMEZONE:Europe/Warsaw
BEGIN:VEVENT
UID:37978@night4u.pl
DTSTART;TZID=Europe/Warsaw:20191220T210000
DTEND;TZID=Europe/Warsaw:20191221T040000
DTSTAMP:20191220T110821Z
URL:https://night4u.pl/wydarzenia/kizo-mega-koncert-%e2%98%85-20-12-piatek
 /
SUMMARY:Kizo - Mega Koncert ★ 20.12 Piątek
DESCRIPTION:Już 20 grudnia zapraszamy na kolejny gruby koncert na scenie P
 omarańczy! \n\nTego wieczoru wystąpi dla Was KIZO!\n\nCzłowiek odpowied
 zialny za takie hity jak:\nCzempion (feat\; Malik Montana)\nhttps://www.yo
 utube.com/watch?v=e0-eFD7i-vg\n\nŻycie jest piękne (feat. Tymek)\nhttps:
 //www.youtube.com/watch?v=JZ9WJsT83WQ\n\nSafari\nhttps://www.youtube.com/w
 atch?v=ameLejPQsgk\n\nTe oraz wiele innych hitów będziecie mogli usłysz
 eć już 20 Grudnia w piątek w Bielskiej Pomarańczy! \n\nChcesz wejść 
 na imprezę szybciej? Kup bilet On-line!🔥\nhttps://klubpomarancza.pl/bi
 elsko/rezerwacjalozy/EventBilety/id/327158131/s/fbe/\n\n👉 I pula: 15 z
 ł 🤩🤩🤩\n👉 II pula: 20 zł\n\nBilety do nabycia także w kasie 
 klubu w dniu imprezy:\n👉 do godziny 22:30 - 20 zł\n👉 po godzinie 22
 :30 - 25 zł \n\nRezerwacja loży 👇👇👇https://klubpomarancza.pl/bi
 elsko/rezerwacjalozy/EventLoze/id/327158131/s/fbe/\n__\nINFORMACJE\n📅 2
 0.12 - PIĄTEK\n🕘 Start: 21:00\n🔞 Selekcja: 16 LAT \n🎫 Wstęp:\nP
 rzedsprzedaż (gwarancja szybszego wstępu)\n1 Pula - 15zł\n2 Pula - 20z
 ł\n\nW dniu imprezie w kasie klubu:\nDo 22:30 - 20zł\nPo 22:30 - 25zł\n
 \n📌 Bielsko-Biała\, ul. Grażyńskiego 38\n--\nPROMOCJE\n🎂 Odprawim
 y Twoje urodziny!\nA także zorganizujemy:\n💃 Wieczór Panieński\n🕺
  Wieczór Kawalerski\nRezerwacje od wtorku do soboty od 13:00 do 21:00\n
 📱 536 901 907\n📧 mojaimpreza@pomaranczagroup.pl\n--\nREZERWACJA LOŻ
 Y\nRezerwacje od wtorku do piątku od 11:00 do 16:00\n📱 508 141 760\n--
 \nMUZYKA\nSALA KLUBOWA ▶ RO-BEE\n--\nINSTAGRAM\nwww.instagram.com/pomara
 ncza_bielsko
ATTACH;FMTTYPE=image/jpeg:https://night4u.pl/wp-content/uploads/2019/12/10
 8396_image_78747483_2609807865722002_59173078696984576_o.jpg
CATEGORIES:śląskie
LOCATION:Klub Pomarańcza Bielsko-Biała\, Grażyńskiego 38\, Bielsko-Bia
 ła\, 43-382\, Poland
GEO:49.832975;19.049502
X-APPLE-STRUCTURED-LOCATION;VALUE=URI;X-ADDRESS=Grażyńskiego 38\, Bielsko
 -Biała\, 43-382\, Poland;X-APPLE-RADIUS=100;X-TITLE=Klub Pomarańcza Biel
 sko-Biała:geo:49.832975,19.049502
END:VEVENT
BEGIN:VTIMEZONE
TZID:Europe/Warsaw
X-LIC-LOCATION:Europe/Warsaw
BEGIN:STANDARD
DTSTART:20191027T020000
TZOFFSETFROM:+0200
TZOFFSETTO:+0100
TZNAME:CET
END:STANDARD
END:VTIMEZONE
END:VCALENDAR