BEGIN:VCALENDAR
VERSION:2.0
PRODID:-//wp-events-plugin.com//7.2.3.1//EN
TZID:Europe/Warsaw
X-WR-TIMEZONE:Europe/Warsaw
BEGIN:VEVENT
UID:10441@night4u.pl
DTSTART;TZID=Europe/Warsaw:20190412T223000
DTEND;TZID=Europe/Warsaw:20190413T060000
DTSTAMP:20190318T200120Z
URL:https://night4u.pl/wydarzenia/klasycznie-piatek-x-frantic-club-x-where
 2b-7/
SUMMARY:Klasycznie Piątek x Frantic Club x where2B
DESCRIPTION:Klasycznie piątek… Klasycznie impreza… Klasycznie\, bo we 
 Franticu!  \n\n\nW głośnikach imprezowe klasyki\, za djką klasycznie na
 jlepsi DjS\, a na barach klasyczny drink w cenie 15 PLN. \nJest jeszcze le
 piej\, bo jak kupisz dwa na raz płacisz tylko 20 PLN. Warunek jest jeden
 … jesteś na liście Gości ☺ \nI znów trzeci dzień z rzędu w F oka
 zuje się\, że im więcej wypijesz\, tym mniej zapłacisz. \n\nJeśli ju
 ż klikniesz „wezmę udział” dostajesz od nas kolejną promocję… 0
 \,7 L Klasycznego Absoluta w cenie 140 PLN! (do godziny 1:00) ☺ \n\nPią
 tek? Klasyk! \nWpadaj do F! Weekend zaczyna się tutaj.\n\n\nWSTĘP: \ndla
  wszystkich zapisanych na listę do 00:00 FREE / po 00:00 10-20 PLN\ndla o
 sób +30 l. zapisanych na listę wstęp FREE ALL NIGHT \ndla wszystkich ni
 ezapisanych na listę 20 PLN \n\nDJS\n\n\nObserwuj nas na Insta: FRANTICKR
 K\n\n\nZarezerwuj lożę: napisz na priv lub na: frantic@frantic.pl\nLub z
 adzwoń: 784 828 469 lub 12 423 04 83
ATTACH;FMTTYPE=image/jpeg:https://night4u.pl/wp-content/uploads/2019/03/27
 543_image_54730342_2204913749531216_1242427201421312000_n.jpg
CATEGORIES:małopolskie
LOCATION:Frantic Club\, ul. Szewska 5\, Kraków\, 31-009\, Poland
GEO:50.06237;19.9356
X-APPLE-STRUCTURED-LOCATION;VALUE=URI;X-ADDRESS=ul. Szewska 5\, Kraków\, 3
 1-009\, Poland;X-APPLE-RADIUS=100;X-TITLE=Frantic Club:geo:50.06237,19.935
 6
END:VEVENT
BEGIN:VTIMEZONE
TZID:Europe/Warsaw
X-LIC-LOCATION:Europe/Warsaw
BEGIN:DAYLIGHT
DTSTART:20190331T030000
TZOFFSETFROM:+0100
TZOFFSETTO:+0200
TZNAME:CEST
END:DAYLIGHT
END:VTIMEZONE
END:VCALENDAR