BEGIN:VCALENDAR
VERSION:2.0
PRODID:-//wp-events-plugin.com//7.2.3.1//EN
TZID:Europe/Warsaw
X-WR-TIMEZONE:Europe/Warsaw
BEGIN:VEVENT
UID:43033@night4u.pl
DTSTART;TZID=Europe/Warsaw:20200131T223000
DTEND;TZID=Europe/Warsaw:20200201T050000
DTSTAMP:20200131T170805Z
URL:https://night4u.pl/wydarzenia/klimat-lista-fb-2/
SUMMARY:Klimat | lista FB*
DESCRIPTION:Amazońska dżungla\, plemienne tańce\, elektroniczne dźwięk
 i i hawajski street food. Palmy zamiast zżółkniętych liści\, kolorowe
  światła w miejsce wszechobecnej szarości\, poke bowle zastępujące pi
 erogi. LuLu Malina i rezydenci najlepszych elektronicznych imprez przenios
 ą was 31 stycznia w inną szerokość geograficzną\, gdzie w środku tro
 pikalnej puszczy znajdziecie najlepszy letni festiwal. Oprócz specjalnie 
 na tę noc stworzonej scenografii\, imprezie towarzyszyć będzie street f
 ood’owa wersja hawajskiego menu Raj w Niebie! \n1% dochodu z imprezy prz
 ekażemy na cele Fundacji Nasza Ziemia. \n\nNajbardziej klimatyczna imprez
 a w mieście przed wami 🌩\n\nZagrają:\n🌴 Tommy Gustav\n🌴 LuLu Ma
 lina\n🌴 Chriss Jaxx / PL\n🌴 AGNES\n\nRezerwacje stolików i miejsc s
 iedzących przyjmujemy pod mailem: rezerwacje@klubniebo.pl\n\n20+\nTAX: 25
 \n*lista FB free do 23:30\n---\nPatronat:\nmuno.pl\nWarsawholic\nExample.p
 l\nGoing.
ATTACH;FMTTYPE=image/jpeg:https://night4u.pl/wp-content/uploads/2020/01/13
 7151_image_82385797_2525058267759004_1487861612902612992_o.jpg
CATEGORIES:mazowieckie
LOCATION:NIEBO\, ul. Nowy Świat 21\, Warsaw\, 00-029\, Poland
GEO:52.23238;21.018267
X-APPLE-STRUCTURED-LOCATION;VALUE=URI;X-ADDRESS=ul. Nowy Świat 21\, Warsaw
 \, 00-029\, Poland;X-APPLE-RADIUS=100;X-TITLE=NIEBO:geo:52.23238,21.018267
END:VEVENT
BEGIN:VTIMEZONE
TZID:Europe/Warsaw
X-LIC-LOCATION:Europe/Warsaw
BEGIN:STANDARD
DTSTART:20191027T020000
TZOFFSETFROM:+0200
TZOFFSETTO:+0100
TZNAME:CET
END:STANDARD
END:VTIMEZONE
END:VCALENDAR