BEGIN:VCALENDAR
VERSION:2.0
PRODID:-//wp-events-plugin.com//7.2.3.1//EN
TZID:Europe/Warsaw
X-WR-TIMEZONE:Europe/Warsaw
BEGIN:VEVENT
UID:16861@night4u.pl
DTSTART;TZID=Europe/Warsaw:20190524T220000
DTEND;TZID=Europe/Warsaw:20190525T050000
DTSTAMP:20190522T094338Z
URL:https://night4u.pl/wydarzenia/klubowa-noc/
SUMMARY:Klubowa Noc
DESCRIPTION:Już w ten piątek muzyczne klubowe perełki zaprezentuje nam D
 j Noko.\nZapraszamy?
ATTACH;FMTTYPE=image/jpeg:https://night4u.pl/wp-content/uploads/2019/05/41
 315_image_61183355_2261908550568851_2109762616686542848_n.jpg
CATEGORIES:wielkopolskie
LOCATION:Base Club\, Mokra 1\, Poznan\, 61-766\, Poland
GEO:52.41009;16.93476
X-APPLE-STRUCTURED-LOCATION;VALUE=URI;X-ADDRESS=Mokra 1\, Poznan\, 61-766\,
  Poland;X-APPLE-RADIUS=100;X-TITLE=Base Club:geo:52.41009,16.93476
END:VEVENT
BEGIN:VTIMEZONE
TZID:Europe/Warsaw
X-LIC-LOCATION:Europe/Warsaw
BEGIN:DAYLIGHT
DTSTART:20190331T030000
TZOFFSETFROM:+0100
TZOFFSETTO:+0200
TZNAME:CEST
END:DAYLIGHT
END:VTIMEZONE
END:VCALENDAR