BEGIN:VCALENDAR
VERSION:2.0
PRODID:-//wp-events-plugin.com//7.2.3.1//EN
TZID:Europe/Warsaw
X-WR-TIMEZONE:Europe/Warsaw
BEGIN:VEVENT
UID:9437@night4u.pl
DTSTART;TZID=Europe/Warsaw:20190316T210000
DTEND;TZID=Europe/Warsaw:20190317T050000
DTSTAMP:20190314T210337Z
URL:https://night4u.pl/wydarzenia/klubowa-sobota-matson-waveshock/
SUMMARY:Klubowa Sobota // Matson & Waveshock
DESCRIPTION:Przed nami Sobotnie wysokie loty w Niebie 
ATTACH;FMTTYPE=image/jpeg:https://night4u.pl/wp-content/uploads/2019/03/25
 480_image_54279371_2053429701371347_9167231170709028864_o.jpg
CATEGORIES:lubuskie
LOCATION:Heaven Zielona Góra\, ul. Generała Józefa Sowińskiego 38 C\, Z
 ielona Góra\, 65-067\, Poland
GEO:51.934371;15.509862
X-APPLE-STRUCTURED-LOCATION;VALUE=URI;X-ADDRESS=ul. Generała Józefa Sowi
 ńskiego 38 C\, Zielona Góra\, 65-067\, Poland;X-APPLE-RADIUS=100;X-TITLE
 =Heaven Zielona Góra:geo:51.934371,15.509862
END:VEVENT
BEGIN:VTIMEZONE
TZID:Europe/Warsaw
X-LIC-LOCATION:Europe/Warsaw
BEGIN:STANDARD
DTSTART:20181028T020000
TZOFFSETFROM:+0200
TZOFFSETTO:+0100
TZNAME:CET
END:STANDARD
END:VTIMEZONE
END:VCALENDAR