BEGIN:VCALENDAR
VERSION:2.0
PRODID:-//wp-events-plugin.com//7.2.3.1//EN
TZID:Europe/Warsaw
X-WR-TIMEZONE:Europe/Warsaw
BEGIN:VEVENT
UID:45258@night4u.pl
DTSTART;TZID=Europe/Warsaw:20200423T210000
DTEND;TZID=Europe/Warsaw:20200424T050000
DTSTAMP:20200423T183057Z
URL:https://night4u.pl/wydarzenia/klubowe-juwenalia-poznania-2020/
SUMMARY:Klubowe Juwenalia Poznania 2020
DESCRIPTION:👨‍🎓  KLUBOWE JUWENALIA 2020 👨‍🎓👨‍🎓\n\n
 👉 TO BĘDZIE PRAWDZIWE ŚWIĘTO  KULTURY STUDENCKIEJ!!\n👉  23 KWIETN
 IA W CZWARTEK ZABAWIMY SIĘ W KLUBACH!\n\nSzczegóły ogłosimy już nieba
 wem! \n\nPamiętajcie\, żeby polubić nasz fanpage 👉 Poznańska Integr
 acja Studencka
ATTACH;FMTTYPE=image/jpeg:https://night4u.pl/wp-content/uploads/2020/01/14
 6865_image_84333663_2536458353303205_6323105979076444160_o.jpg
CATEGORIES:wielkopolskie
LOCATION:Poznań\, Poznan\, Poland
GEO:52.4;16.9167
X-APPLE-STRUCTURED-LOCATION;VALUE=URI;X-ADDRESS=Poznan\, Poland;X-APPLE-RAD
 IUS=100;X-TITLE=Poznań:geo:52.4,16.9167
END:VEVENT
BEGIN:VTIMEZONE
TZID:Europe/Warsaw
X-LIC-LOCATION:Europe/Warsaw
BEGIN:DAYLIGHT
DTSTART:20200329T030000
TZOFFSETFROM:+0100
TZOFFSETTO:+0200
TZNAME:CEST
END:DAYLIGHT
END:VTIMEZONE
END:VCALENDAR