BEGIN:VCALENDAR
VERSION:2.0
PRODID:-//wp-events-plugin.com//7.2.3.1//EN
TZID:Europe/Warsaw
X-WR-TIMEZONE:Europe/Warsaw
BEGIN:VEVENT
UID:33684@night4u.pl
DTSTART;TZID=Europe/Warsaw:20191208T190000
DTEND;TZID=Europe/Warsaw:20191208T230000
DTSTAMP:20191208T003027Z
URL:https://night4u.pl/wydarzenia/kobranocka-roze-europy-sztywny-pal-azji-
 08-12-klub30-lublin-2/
SUMMARY:Kobranocka\, Róże Europy\, Sztywny Pal Azji /08.12/ Klub30 Lublin
DESCRIPTION:UWAGA: Na koncerty w Klubie30 NIE OBOWIĄZUJE standardowa selek
 cja wiekowa. \nWstęp: 16+\, poniżej tego wieku - wstęp z opiekunem.\nUb
 iór? Zgodny z tematyką koncertu - to Ty masz czuć się dobrze!\n-------
 ---------------------------\nDATA: 08/12/2019 (niedziela)\nMIEJSCE: Klub30
  Lublin\, ul. Jasna 7.\nINFOLINIA: 508-646-536 (śr-czw\, 09:00-15:00)\n--
 --------------------------------\n\nKobranocka\, Róże Europy\, Sztywny P
 al Azji – Lublin\n\nOtwarcie wejść: 18:00 Start: 19:00\nBilety przedsp
 rzedaż 70zł\, w dniu koncertu 80zł\n\nBilety do nabycia:\n\nBILETY KOLE
 KCJONERSKIE:\n\nKlub 30 ul.Jasna 7\nSklep Muzyczny e-music aleja Unii Lube
 lskiej 2\nSalon fryzjerski Classic Aleje Racławickie 27\n\nWysyłkowa spr
 zedaż biletów kolekcjonerskich:\ntel.12 632 21 47 (metal.shop.dluga@gmai
 l.com)\n\n\nBILETY ELEKTRONICZNE:\n\nBilety z systemu Ticketmaster: https:
 //www.ticketmaster.pl/artist/kobranocka-bilety/992759 oraz w sieci sklepó
 w: EMPIK\, MEDIA MARKT\, SATURN w całej Polsce.\n\nBilety z systemu eBile
 t: https://www.ebilet.pl/muzyka/rock/roze-europy/ oraz w sieci sklepów: E
 MPIK\, MEDIA MARKT\, SATURN w całej Polsce.\n\nBilety z systemu Going: ht
 tps://goingapp.pl/evt/2119536/kobranocka-roze-europy-sztywny-pal-azji\n\nB
 ilety z systemu Empik: https://www.empikbilety.pl/event/Kobranocka-Roze-Eu
 ropy-Sztywny-Pal-Azji-Lublin
ATTACH;FMTTYPE=image/jpeg:https://night4u.pl/wp-content/uploads/2019/12/84
 950_image_79329107_3230551080350093_6331754643051249664_o.jpg
CATEGORIES:lubelskie
LOCATION:\, \, 
X-APPLE-STRUCTURED-LOCATION;VALUE=URI;X-ADDRESS=\, ;X-APPLE-RADIUS=100;X-TI
 TLE=:geo:0,0
END:VEVENT
BEGIN:VTIMEZONE
TZID:Europe/Warsaw
X-LIC-LOCATION:Europe/Warsaw
BEGIN:STANDARD
DTSTART:20191027T020000
TZOFFSETFROM:+0200
TZOFFSETTO:+0100
TZNAME:CET
END:STANDARD
END:VTIMEZONE
END:VCALENDAR