BEGIN:VCALENDAR
VERSION:2.0
PRODID:-//wp-events-plugin.com//7.2.3.1//EN
TZID:Europe/Warsaw
X-WR-TIMEZONE:Europe/Warsaw
BEGIN:VEVENT
UID:27590@night4u.pl
DTSTART;TZID=Europe/Warsaw:20191207T190000
DTEND;TZID=Europe/Warsaw:20191207T230000
DTSTAMP:20191031T075037Z
URL:https://night4u.pl/wydarzenia/kobranocka-roze-europy-sztywny-pal-azji-
 bialystok/
SUMMARY:Kobranocka\, Róże Europy\, Sztywny Pal Azji | Białystok
DESCRIPTION:Kobranocka\, Róże Europy\, Sztywny Pal Azji – Białystok\n\
 nBiałystok  – 07.12.2019 –  Klub Gwint ul Zwierzyniecka 10\nOtwarcie 
 wejść: 18:00 Start: 19:00\nBilety przedsprzedaż 70zł\, w dniu koncertu
  80zł\n\nBilety do nabycia:\n\nBILETY KOLEKCJONERSKIE:\n\nPub 6-Ścian\, 
 ul. Warszawska 30\nPub Fiction – ul. Suraska 1\nAlchemia – ul. Lipowa 
 4\nRoxy Burger – ul. Rynek Kościuszki 20\nSklep Amadeus – ul. Legiono
 wa 9/1 lok. 151\nPub Strych – ul. Rynek Kościuszki 22\nWinylownia – u
 l. Podleśna 12 lok. 1\n\nWysyłkowa sprzedaż biletów kolekcjonerskich:\
 ntel.12 632 21 47 (metal.shop.dluga@gmail.com)\n\nBILETY KOLEKCJONERSKIE D
 OSTĘPNE OD 30 MAJA !!\n\nBILETY ELEKTRONICZNE:\n\nBilety z systemu Ticket
 master: https://www.ticketmaster.pl/artist/kobranocka-bilety/992759 oraz w
  sieci sklepów: EMPIK\, MEDIA MARKT\, SATURN w całej Polsce.\n\nBilety z
  systemu eBilet: https://www.ebilet.pl/muzyka/rock/roze-europy/ oraz w sie
 ci sklepów: EMPIK\, MEDIA MARKT\, SATURN w całej Polsce.\n\nBilety Empik
 : https://empikbilety.pl/wydarzenie/kobranocka-roze-europy-sztywny-pal-azj
 i-4/grudzien-2019\n\nBilety z systemu Going: https://goingapp.pl/evt/21135
 41/kobranocka-roze-europy-sztywny-pal-azji
ATTACH;FMTTYPE=image/jpeg:https://night4u.pl/wp-content/uploads/2019/09/64
 167_image_59423351_2640753645996509_3603593804633866240_o.jpg
CATEGORIES:podlaskie
LOCATION:Herkulesy klub\, Mickiewicza 2c\, Białystok\, 15-222\, Poland
GEO:53.129396;23.167055
X-APPLE-STRUCTURED-LOCATION;VALUE=URI;X-ADDRESS=Mickiewicza 2c\, Białystok
 \, 15-222\, Poland;X-APPLE-RADIUS=100;X-TITLE=Herkulesy klub:geo:53.129396
 ,23.167055
END:VEVENT
BEGIN:VTIMEZONE
TZID:Europe/Warsaw
X-LIC-LOCATION:Europe/Warsaw
BEGIN:STANDARD
DTSTART:20191027T020000
TZOFFSETFROM:+0200
TZOFFSETTO:+0100
TZNAME:CET
END:STANDARD
END:VTIMEZONE
END:VCALENDAR