BEGIN:VCALENDAR
VERSION:2.0
PRODID:-//wp-events-plugin.com//7.2.3.1//EN
TZID:Europe/Warsaw
X-WR-TIMEZONE:Europe/Warsaw
BEGIN:VEVENT
UID:41350@night4u.pl
DTSTART;TZID=Europe/Warsaw:20200229T180000
DTEND;TZID=Europe/Warsaw:20200229T233000
DTSTAMP:20200228T200212Z
URL:https://night4u.pl/wydarzenia/kobranocka-sztywny-pal-azji-roze-europy-
 proletaryat-lodz/
SUMMARY:Kobranocka\, Sztywny Pal Azji\, Róże Europy\, Proletaryat | Łód
 ź
DESCRIPTION:Kobranocka\, Sztywny Pal Azji\, Róże Europy\, Proletaryat\n\n
 Łódź– 29.02.2020 – Klub Wytwórnia ul Łąkowa 29\nOtwarcie Bram 17
 :00 Start 18:00\n\nWszystkie bilety zostały wyprzedane. Nie będzie możl
 iwości zakupu biletów przed koncertem!\n\nCzasówka Kobranocka\, Sztywny
  Pal Azji\, Róże Europy\, Proletaryat | Łódź\n17:00 - Otwarcie drzwi\
 n18:00 - Róże Europy\n19:40 - Sztywny Pal Azji\n21:20 - Kobranocka\n23:0
 0 - Proletaryat
ATTACH;FMTTYPE=image/jpeg:https://night4u.pl/wp-content/uploads/2020/02/12
 9753_image_86972234_3476741059064426_6407483192881709056_o.jpg
CATEGORIES:łódzkie
LOCATION:Klub Wytwórnia\, Łąkowa 29\, Łódź\, 90-554\, Poland
GEO:51.757542;19.442285
X-APPLE-STRUCTURED-LOCATION;VALUE=URI;X-ADDRESS=Łąkowa 29\, Łódź\, 90-
 554\, Poland;X-APPLE-RADIUS=100;X-TITLE=Klub Wytwórnia:geo:51.757542,19.4
 42285
END:VEVENT
BEGIN:VTIMEZONE
TZID:Europe/Warsaw
X-LIC-LOCATION:Europe/Warsaw
BEGIN:STANDARD
DTSTART:20191027T020000
TZOFFSETFROM:+0200
TZOFFSETTO:+0100
TZNAME:CET
END:STANDARD
END:VTIMEZONE
END:VCALENDAR