BEGIN:VCALENDAR
VERSION:2.0
PRODID:-//wp-events-plugin.com//7.2.3.1//EN
TZID:Europe/Warsaw
X-WR-TIMEZONE:Europe/Warsaw
BEGIN:VEVENT
UID:18190@night4u.pl
DTSTART;TZID=Europe/Warsaw:20190608T200000
DTEND;TZID=Europe/Warsaw:20190608T230000
DTSTAMP:20190603T203741Z
URL:https://night4u.pl/wydarzenia/koja-akoki-koncert-w-amore-del-tropico/
SUMMARY:Koja Akoki- koncert w Amore del Tropico
DESCRIPTION:Koja Akoki to projekt Konrada Szadkowskiego\, członka zespoł
 ów Lola Lynch i Molk.\, w którym eksploruje obszary szeroko pojętej muz
 yki elektronicznej. Towarzyszą mu w tym przedsięwzięciu poznańscy muzy
 cy Barbara Plucińska (bas) i Jacek Rychlicki (wokal).\nUtwory Koja Akoki 
 oscylują wokół popu i alternatywy\, mieszając w ciekawy sposób te dwa
  pojemne nurty z całym dobrodziejstwem inwentarza.
ATTACH;FMTTYPE=image/jpeg:https://night4u.pl/wp-content/uploads/2019/06/43
 995_image_62075314_2201604423289142_8402248725937782784_o.jpg
CATEGORIES:wielkopolskie
END:VEVENT
BEGIN:VTIMEZONE
TZID:Europe/Warsaw
X-LIC-LOCATION:Europe/Warsaw
BEGIN:DAYLIGHT
DTSTART:20190331T030000
TZOFFSETFROM:+0100
TZOFFSETTO:+0200
TZNAME:CEST
END:DAYLIGHT
END:VTIMEZONE
END:VCALENDAR