BEGIN:VCALENDAR
VERSION:2.0
PRODID:-//wp-events-plugin.com//7.2.3.1//EN
TZID:Europe/Warsaw
X-WR-TIMEZONE:Europe/Warsaw
BEGIN:VEVENT
UID:40231@night4u.pl
DTSTART;TZID=Europe/Warsaw:20191220T180000
DTEND;TZID=Europe/Warsaw:20191221T030000
DTSTAMP:20191220T100105Z
URL:https://night4u.pl/wydarzenia/koledy-na-rockowo-koncert/
SUMMARY:Kolędy na Rockowo! Koncert
DESCRIPTION:Kochani\, już w ten piątek czyli za dwa dni\, zapraszamy na k
 oncert niespodziankę -  kolędy na rockowo! :) :D  Zagramy dla Was najbar
 dziej znane i lubiane kolędy polskie i zagraniczne w aranżacjach rockowy
 ch :)  Koncert zagramy w składzie: \nWokal - Marta Bejma\nGitara - Jakub 
 Skotarczyk\nBas - Karen Broyan\nPerkusja - Adam Zaguła\nPrzygotujcie się
  zatem na dawkę świątecznych numerów z rockowym kopem! Bierzcie znajom
 ych  i przyjdźcie na ten wyjątkowy koncert. Po koncercie oczywiście sta
 ndardowo  będziemy jamować do rana \;)  Koncert zaczynamy o 20.30.  Do z
 obaczenia!
ATTACH;FMTTYPE=image/jpeg:https://night4u.pl/wp-content/uploads/2019/12/12
 1336_image_79697402_2467169546738572_1143134721543241728_o.jpg
CATEGORIES:kujawsko-pomorskie
LOCATION:MUZYK\, Rabiańska 17\, Torun\, 87-100\, Poland
GEO:53.0086;18.60397
X-APPLE-STRUCTURED-LOCATION;VALUE=URI;X-ADDRESS=Rabiańska 17\, Torun\, 87-
 100\, Poland;X-APPLE-RADIUS=100;X-TITLE=MUZYK:geo:53.0086,18.60397
END:VEVENT
BEGIN:VTIMEZONE
TZID:Europe/Warsaw
X-LIC-LOCATION:Europe/Warsaw
BEGIN:STANDARD
DTSTART:20191027T020000
TZOFFSETFROM:+0200
TZOFFSETTO:+0100
TZNAME:CET
END:STANDARD
END:VTIMEZONE
END:VCALENDAR