BEGIN:VCALENDAR
VERSION:2.0
PRODID:-//wp-events-plugin.com//7.2.3.1//EN
TZID:Europe/Warsaw
X-WR-TIMEZONE:Europe/Warsaw
BEGIN:VEVENT
UID:2910@night4u.pl
DTSTART;TZID=Europe/Warsaw:20190329T220000
DTEND;TZID=Europe/Warsaw:20190330T050000
DTSTAMP:20190108T162504Z
URL:https://night4u.pl/wydarzenia/kolejny-rok-mija-a-ja-wciaz-niczyja/
SUMMARY:Kolejny rok mija\, a ja wciąż niczyja
DESCRIPTION:Najwyższa pora to zmienić\,\na zmiany najlepiej zacząć od z
 łapania welonu w Gorzko \;)\n\nNa parkiecie czekają na Was: pociągi\, k
 ółeczka i kaczuszki.\nO godz. 2:00 kultowe oczepiny.\nPrzez całą noc s
 zampan\, stolik wiejski i najlepsza weselna muzyka.\n\n♥♥♥♥♥♥
 ♥♥♥♥♥♥♥♥♥♥\n▬▬▬▬▬▬▬▬▬▬▬▬▬▬
 ▬▬▬▬▬▬▬▬▬▬▬▬▬▬\n\nWstęp:\n[18+] - wyłącznie
  za okazaniem dokumentu tożsamości\n\n22:00-23:00 (Lista Fb) - free\nPoz
 ostali - 10 PLN\n\nBez stroju formalnego\, ubierz się tak jak Ci wygodnie
 .\nAczkolwiek dresy\, bojówki itp. stroje zostawiamy sobie na inną okazj
 ę \;)\n\n▬▬▬▬▬▬▬▬▬▬▬▬▬▬▬▬▬▬▬▬▬
 ▬▬▬▬▬▬▬\n\nGorzko Gorzko Sopot to klub\, w którym w każdy 
 Piątek i Sobotę odbywają się dyskoteki weselne.\nWodzirej\, fotobudka\
 , muzyka i zabawy weselne\, przekąski oraz powitalny szampan.\nTo tylko c
 zęść z atrakcji\, których u nas doświadczycie.\n\nHej wesele\, hej we
 sele tańcowało... !
ATTACH;FMTTYPE=image/jpeg:https://night4u.pl/wp-content/uploads/2019/01/99
 60_image_49690738_2210488519278461_8471337157544378368_o.jpg
CATEGORIES:pomorskie
LOCATION:Gorzko Gorzko Sopot\, Armii Krajowej 111\, Sopot\, 81-824\, Poland
GEO:54.444101;18.55535
X-APPLE-STRUCTURED-LOCATION;VALUE=URI;X-ADDRESS=Armii Krajowej 111\, Sopot\
 , 81-824\, Poland;X-APPLE-RADIUS=100;X-TITLE=Gorzko Gorzko Sopot:geo:54.44
 4101,18.55535
END:VEVENT
BEGIN:VTIMEZONE
TZID:Europe/Warsaw
X-LIC-LOCATION:Europe/Warsaw
BEGIN:STANDARD
DTSTART:20181028T020000
TZOFFSETFROM:+0200
TZOFFSETTO:+0100
TZNAME:CET
END:STANDARD
END:VTIMEZONE
END:VCALENDAR