BEGIN:VCALENDAR
VERSION:2.0
PRODID:-//wp-events-plugin.com//7.2.3.1//EN
TZID:Europe/Warsaw
X-WR-TIMEZONE:Europe/Warsaw
BEGIN:VEVENT
UID:31196@night4u.pl
DTSTART;TZID=Europe/Warsaw:20191014T200000
DTEND;TZID=Europe/Warsaw:20191014T230000
DTSTAMP:20191009T200157Z
URL:https://night4u.pl/wydarzenia/komeda-perspektywa-nova-magdalena-kumore
 k-tubis-trio/
SUMMARY:Komeda.Perspektywa Nova - Magdalena Kumorek & Tubis Trio
DESCRIPTION:„Komeda.Perspektywa Nova.” to muzyczny mariaż zespołu Tu
 bis Trio i aktorki/wokalistki Magdaleny Kumorek.\n						\nŻeński pierw
 iastek tego związku w osobie Magdaleny Kumorek -szerszej publiczności 
 znanej z filmów „Poranek kojota”\,Układ zamknięty „ czy serialu
  „Przepis na życie”-wnosi wrażliwość na synergię słowa i me
 lodii w piosence. Wokalny warsztat aktorki\, laureatki kilku konkursów i
  festiwali piosenki aktorskiej\, oparty jest o jej wieloletnią pracę n
 a muzycznej scenie.Jednym z jej ważnych etapów była autorska płyta 
 „Śmiercie” z muzyką skomponowaną przez wokalistkę do słów w
 spaniałego polskiego poety -Bolesława Leśmiana.\n						\nMęski eleme
 nt tego mariażu -Tubis Trio-to jeden z najbardziej oryginalnych\, pręz
 ̇nie rozwijających się w ostatnich latach zespołów jazzowych.Ich k
 ompozycje z płyty „THE TRUTH”\, czy ostatniej „FLASHBACK”\, docen
 ia wielu recenzentów.Podkreślają oni \,że twórczość Tubis Tr
 io „ocieka wręcz radością gry\, ferią melodyjnych\, niezwykle ch
 wytliwych fraz\, oferując słuchaczom zaraźliwie pogodne dźwięki\,
  bez uszczerbku dla muzycznej inteligencji samych utworów”(Geno Thacka
 ra „All About Jazz”). Tubis Trio czyli Maciej Tubis\, Paweł Puszczał
 o oraz Przemek Pacan\, to\n						\nradość \,przebojowość\, wirtuoz
 eria gry i niepowtarzalny sound.\n						\nRzec by zatem można\, że „
 Komeda. Perspektywa Nova.” To muzyczna poślubna podróż\, wspólne
  poszukiwanie nowej wersji popularnych i lubianych piosenek Krzysztofa Kom
 edy. Niepowtarzalne „Tubisowe” radosne brzmienie\, duża doza zabawy 
 formą i melodią Komedowych piosenek\, a także świetne teksty autor
 stwa Agnieszki Osieckiej i Wojciecha Młynarskiego w interpretacji Magdale
 ny Kumorek\, to ciekawa \, niebanalna propozycja rzucająca nowe świat
 ło na twórczość Komedy w 50 rocznice jego śmierci. \n\nZachęcamy
  do rezerwacji miejsc w klubie: emenago.com/i/vertigojazz
ATTACH;FMTTYPE=image/jpeg:https://night4u.pl/wp-content/uploads/2019/10/72
 511_image_70502868_2371921816397070_8433698920315486208_o.jpg
CATEGORIES:dolnośląskie
LOCATION:Vertigo Jazz Club & Restaurant\, Oławska 13\, Wroclaw\, 53-125\, 
 Poland
GEO:51.10835;17.03537
X-APPLE-STRUCTURED-LOCATION;VALUE=URI;X-ADDRESS=Oławska 13\, Wroclaw\, 53-
 125\, Poland;X-APPLE-RADIUS=100;X-TITLE=Vertigo Jazz Club & Restaurant:geo
 :51.10835,17.03537
END:VEVENT
BEGIN:VTIMEZONE
TZID:Europe/Warsaw
X-LIC-LOCATION:Europe/Warsaw
BEGIN:DAYLIGHT
DTSTART:20190331T030000
TZOFFSETFROM:+0100
TZOFFSETTO:+0200
TZNAME:CEST
END:DAYLIGHT
END:VTIMEZONE
END:VCALENDAR