BEGIN:VCALENDAR
VERSION:2.0
PRODID:-//wp-events-plugin.com//7.2.3.1//EN
TZID:Europe/Warsaw
X-WR-TIMEZONE:Europe/Warsaw
BEGIN:VEVENT
UID:39786@night4u.pl
DTSTART;TZID=Europe/Warsaw:20200228T190000
DTEND;TZID=Europe/Warsaw:20200228T203000
DTSTAMP:20200129T225519Z
URL:https://night4u.pl/wydarzenia/komedia-korpo-story-2b-teatr-xl-tu-mi-wo
 lno-28-02-2020/
SUMMARY:Komedia! KORPO STORY 2b TEATR XL TU MI WOLNO 28/02/2020
DESCRIPTION:CO? Wielkie Otwarcie Sezonu Teatru XL -  /tragikomedia/ KORPO S
 TORY 2B w TU MI WOLNO.\nGDZIE? TEATR XL w TU MI WOLNO (Plac Hallera 5/10a 
 w Warszawie)\nKIEDY? piątek 28 lutego 2020 g.19:00\nbilety: teatrxl.com\n
 \nJesteś młodą\, dynamiczną osobą\, sfokusowaną na karierę? Nie boi
 sz się konkurencji i nie wykluczasz romansu w miejscu pracy? Świetnie! Z
 apewniamy WŁASNE BIURKO! \n\nNo limit na ołpen spejsa\, nerwica i nadgod
 ziny gratis. Nasi pracownicy nie korzystają z L4! O godzinie 17:00 możes
 z opuścić biuro co najwyżej nogami do przodu. Aplikuj już teraz!\n\nKO
 RPO STORY 2B\nPoznaj prawidzwe oblicze korporacji\, od procesu rekrutacji\
 , do wypalenia zawodowego. Wellnes i spa dla naszyc pracowników w nieogra
 niczonym dostępnie.\n\nAutor i dramaturg: Przemysław Kazusek\nReżyseria
  i adaptacja: Andre de la Cruz\nWystępują: \n2B: Diana Karamon\,\n4A\, P
 rzewodniczka wycieczki\, Paul\, Teściowa: Izabela Górska\,\n3H\, Pani Ba
 sia\, Rabbit: Sandra Stencel\,\nAsystentka Szefa: Marta Julia Skoczek\,\n1
 Z\, Człowiek Skaner\, Mąż: Grzegorz Jarek\,\nGłos z reklamy: Magdalena
  Łoś\,\nSzef\, Synek : Zbigniew Pożoga.\nProjekt plakatu: Magdalena Ło
 ś\nKoncepcja kostiumów: Zuzanna Sapeta\nKonsultacje scenograficzne: Zuza
 nna Sapeta\nKierownictwo produkcji: Diana Karamon
ATTACH;FMTTYPE=image/jpeg:https://night4u.pl/wp-content/uploads/2019/12/11
 9288_image_78905513_2611856865567253_721732751165751296_o.jpg
CATEGORIES:mazowieckie
LOCATION:TEATR XL\, Plac Hallera 5\, Warsaw\, 03-464\, Poland
GEO:52.232202;21.019914
X-APPLE-STRUCTURED-LOCATION;VALUE=URI;X-ADDRESS=Plac Hallera 5\, Warsaw\, 0
 3-464\, Poland;X-APPLE-RADIUS=100;X-TITLE=TEATR XL:geo:52.232202,21.019914
END:VEVENT
BEGIN:VTIMEZONE
TZID:Europe/Warsaw
X-LIC-LOCATION:Europe/Warsaw
BEGIN:STANDARD
DTSTART:20191027T020000
TZOFFSETFROM:+0200
TZOFFSETTO:+0100
TZNAME:CET
END:STANDARD
END:VTIMEZONE
END:VCALENDAR