BEGIN:VCALENDAR
VERSION:2.0
PRODID:-//wp-events-plugin.com//7.2.3.1//EN
TZID:Europe/Warsaw
X-WR-TIMEZONE:Europe/Warsaw
BEGIN:VEVENT
UID:36279@night4u.pl
DTSTART;TZID=Europe/Warsaw:20191207T230000
DTEND;TZID=Europe/Warsaw:20191208T060000
DTSTAMP:20191208T022911Z
URL:https://night4u.pl/wydarzenia/komitet-obrony-disco-tama/
SUMMARY:Komitet Obrony Disco | Tama
DESCRIPTION:line-up:\nK.O.D. \nWOSK\nDiscobart\n\ntax: 0 / 20 pln\n0 pln - 
 lista fb "wezmę udział" do 24 / 20 pln - pozostali\nlistę zamykamy w dn
 iu imprezy o 20\n\nKomitet Obrony Disco współtworzą Pitti Schmitti i Ko
 vvalsky\, czyli dwójka dj’ów\, przyjaciół\, którzy od pewnego czasu
  konsekwentnie prezentują swoje szerokie muzyczne spektrum\, podróżują
 c po całej Polsce i nie tylko. Ich sety charakteryzuje wrażliwość i ra
 dość\, grają: klasykę disco\, eksperymenty italo\, house rodem z Parad
 ise Garage\, electro\, techno oraz utwory\, których nikt się nie spodzie
 wa. Na swoim koncie mają już liczne występy w większości renomowanych
  klubów oraz festiwali w Polsce\, oprócz miast w swojej ojczyźnie odwie
 dzili m.in: Tel Aviv\, Taipei\, Berlin\, Paryż czy czeską Pragę. Zawsze
  podkreślają\, że nie boją się melodii i piosenek\, a wódki i pizzy 
 odmawiają sporadycznie…
ATTACH;FMTTYPE=image/jpeg:https://night4u.pl/wp-content/uploads/2019/11/98
 008_image_77263947_2484950631825981_1692880755790708736_o.jpg
CATEGORIES:wielkopolskie
LOCATION:Tama\, ul. Niezłomnych 2\, Poznan\, 61-714\, Poland
GEO:52.402524;16.922364
X-APPLE-STRUCTURED-LOCATION;VALUE=URI;X-ADDRESS=ul. Niezłomnych 2\, Poznan
 \, 61-714\, Poland;X-APPLE-RADIUS=100;X-TITLE=Tama:geo:52.402524,16.922364
END:VEVENT
BEGIN:VTIMEZONE
TZID:Europe/Warsaw
X-LIC-LOCATION:Europe/Warsaw
BEGIN:STANDARD
DTSTART:20191027T020000
TZOFFSETFROM:+0200
TZOFFSETTO:+0100
TZNAME:CET
END:STANDARD
END:VTIMEZONE
END:VCALENDAR