BEGIN:VCALENDAR
VERSION:2.0
PRODID:-//wp-events-plugin.com//7.2.3.1//EN
TZID:Europe/Warsaw
X-WR-TIMEZONE:Europe/Warsaw
BEGIN:VEVENT
UID:46796@night4u.pl
DTSTART;TZID=Europe/Warsaw:20200229T210000
DTEND;TZID=Europe/Warsaw:20200301T060000
DTSTAMP:20200331T141818Z
URL:https://night4u.pl/wydarzenia/komodo-feat-barney-sykes-live-x-demon-wr
 oclaw/
SUMMARY:Komodo feat. Barney Sykes LIVE! // X-Demon Wrocław
DESCRIPTION:KOMODO feat. Barney Sykes LIVE!\n\n'(I Just) Died In Your Arms"
 \nhttps://youtu.be/d8OI9FllKfg\n\n'Is This Love'\nhttps://youtu.be/EvymNDG
 AdLM\n\nRezerwacja lóż www.wroclaw.xdemon.pl\nSelekcja +21
ATTACH;FMTTYPE=image/jpeg:https://night4u.pl/wp-content/uploads/2020/02/15
 4069_image_83090485_1259632564221420_3377282885361860608_o.jpg
CATEGORIES:dolnośląskie
LOCATION:X-Demon - Wrocław\, \, 
X-APPLE-STRUCTURED-LOCATION;VALUE=URI;X-ADDRESS=\, ;X-APPLE-RADIUS=100;X-TI
 TLE=X-Demon - Wrocław:geo:0,0
END:VEVENT
BEGIN:VTIMEZONE
TZID:Europe/Warsaw
X-LIC-LOCATION:Europe/Warsaw
BEGIN:STANDARD
DTSTART:20191027T020000
TZOFFSETFROM:+0200
TZOFFSETTO:+0100
TZNAME:CET
END:STANDARD
END:VTIMEZONE
END:VCALENDAR