BEGIN:VCALENDAR
VERSION:2.0
PRODID:-//wp-events-plugin.com//7.2.3.1//EN
TZID:Europe/Warsaw
X-WR-TIMEZONE:Europe/Warsaw
BEGIN:VEVENT
UID:2063@night4u.pl
DTSTART;TZID=Europe/Warsaw:20190112T210000
DTEND;TZID=Europe/Warsaw:20190113T060000
DTSTAMP:20181231T133137Z
URL:https://night4u.pl/wydarzenia/komodo-ostatnia-impreza-w-starym-lokalu-
 przy-ul-matejki-3/
SUMMARY:Komodo // Ostatnia impreza w starym lokalu przy ul. Matejki 3
DESCRIPTION:[ENG BELOW]\n\n[PL]\n\nPora zamknąć pewien rozdział i przygo
 tować się na nowe i oczywiście lepsze! 12 stycznia odbędzie się ostat
 nia impreza w starym lokalu przy ul. Matejki 3! Gwiazdą wieczoru będzie 
 KOMODO! Twórcy Mega Hitu (I Just) Died In Your Arms! \n\nMusisz być z Na
 mi! To ostatnia impreza w starym lokalu Twojej Pomarańczy! \n\nW lutym wi
 elkie otwarcie przy ul. Mickiewicza 4 (budynek Skarbka). Nowe miejsce - le
 gendarny klimat! \n\nDo momentu otwarcia Pomarańcza od 19.01 gra gościnn
 ie w FAME CLUB przy ul. Sobieskiego 11. \n\n?????\n\nSELEKCJA: 18+\n\n????
 ??\nSala główna: DC-LUCK\nSala dance: MAX KOLANKOV\n____________________
 __\n\n✔????????? ??? ?????? ?????ń??? ? ??????????\, ? ???ż? ???????? 
 ? ????????!\n\n✔ Zadzwoń by zarezerwować loże na imprezę: 536 901 90
 7 czynny od wtorku do soboty w godzinach od 13:00 do 21:00.\n\n___________
 ___________\n\n\n[ENG]\n\nIt's time to close a chapter and prepare for new
  and of course better! On January 12\, the last event will take place in t
 he old premises at Matejki 3 Street! The star of the evening will be KOMOD
 O! Makers of Mega Hitu (I Just) Died In Your Arms!\n\nYou must be with us!
  This is the last event in the old premises of your Pomarancza!\n\nIn Febr
 uary\, the grand opening at ul. Mickiewicza 4 (Skarbek building). A new pl
 ace - a legendary atmosphere!\n\nUntil the opening of Pomarancza from 19.0
 1\, a guest game at FAME CLUB at Sobieskiego 11 Street.\n\n?????\n\n18+\n\
 n?????\nMain hall: DC-LUCK\nDance hall: MAX KOLANKOV\n____________________
 __\n\n✔ We will arrange for you a Hen party and Bachelor party\, as well
  as birthdays and name days!\n\n✔ Call to reserve lodges for the party: 
 536 901 907 open from Tuesday to Saturday from 13:00 to 21:00.
ATTACH;FMTTYPE=image/jpeg:https://night4u.pl/wp-content/uploads/2018/12/81
 48_image_48412298_2259158040769871_6837537821553590272_o.jpg
CATEGORIES:śląskie
LOCATION:Klub Pomarańcza Katowice\, Mickiewicza 4\, Katowice\, 40-092\, Po
 land
GEO:50.25976;19.02082
X-APPLE-STRUCTURED-LOCATION;VALUE=URI;X-ADDRESS=Mickiewicza 4\, Katowice\, 
 40-092\, Poland;X-APPLE-RADIUS=100;X-TITLE=Klub Pomarańcza Katowice:geo:5
 0.25976,19.02082
END:VEVENT
BEGIN:VTIMEZONE
TZID:Europe/Warsaw
X-LIC-LOCATION:Europe/Warsaw
BEGIN:STANDARD
DTSTART:20181028T020000
TZOFFSETFROM:+0200
TZOFFSETTO:+0100
TZNAME:CET
END:STANDARD
END:VTIMEZONE
END:VCALENDAR