BEGIN:VCALENDAR
VERSION:2.0
PRODID:-//wp-events-plugin.com//7.2.3.1//EN
TZID:Europe/Warsaw
X-WR-TIMEZONE:Europe/Warsaw
BEGIN:VEVENT
UID:46880@night4u.pl
DTSTART;TZID=Europe/Warsaw:20200229T193000
DTEND;TZID=Europe/Warsaw:20200229T220000
DTSTAMP:20200229T222034Z
URL:https://night4u.pl/wydarzenia/koncert-7/
SUMMARY:Koncert!
DESCRIPTION:SO3 w SKŁADZIE: \nBASS - Darek Czyż\nGITARA - Rysiek Bereza\n
 PERKUSJA - Paweł Kowalczyk\nWOKAL - Katarzyna Siarka \n\nSPIRALA BLUES\, 
 w której będziemy gościć\, oferuje wszelkiego rodzaju napitki i trunki
  oraz przepyszne przekąski! \n\nZAPRASZAMY NA DAWKĘ KLIMATYCZNEGO ROCKA!
ATTACH;FMTTYPE=image/jpeg:https://night4u.pl/wp-content/uploads/2020/02/15
 4873_image_84802818_3293912980623378_1326087752688599040_o.jpg
CATEGORIES:lubelskie
LOCATION:SPIRALA BLUES\, Okopowa 9\, Lublin\, 20-023\, Poland
GEO:51.2457;22.55338
X-APPLE-STRUCTURED-LOCATION;VALUE=URI;X-ADDRESS=Okopowa 9\, Lublin\, 20-023
 \, Poland;X-APPLE-RADIUS=100;X-TITLE=SPIRALA BLUES:geo:51.2457,22.55338
END:VEVENT
BEGIN:VTIMEZONE
TZID:Europe/Warsaw
X-LIC-LOCATION:Europe/Warsaw
BEGIN:STANDARD
DTSTART:20191027T020000
TZOFFSETFROM:+0200
TZOFFSETTO:+0100
TZNAME:CET
END:STANDARD
END:VTIMEZONE
END:VCALENDAR