BEGIN:VCALENDAR
VERSION:2.0
PRODID:-//wp-events-plugin.com//7.2.3.1//EN
TZID:Europe/Warsaw
X-WR-TIMEZONE:Europe/Warsaw
BEGIN:VEVENT
UID:30574@night4u.pl
DTSTART;TZID=Europe/Warsaw:20191027T200000
DTEND;TZID=Europe/Warsaw:20191027T230000
DTSTAMP:20191026T010928Z
URL:https://night4u.pl/wydarzenia/koncert-baika-w-lord-jack-rzeszow/
SUMMARY:Koncert BAiKA w Lord Jack Rzeszów
DESCRIPTION:Start: 20.00\nBilety: 30/40\n\nBilety dostępne w Lord Jack w g
 odzinach otwarcia lokalu\, bilety online dostępne tutaj: https://goout.ne
 t/pl/koncerty/baika/bqxue/+hweco/\n\n***\n\nBAiKA\n\nBAiKA to duet\, któr
 y tworzą Piotr Banach (pierwszy lider zespołu Hey\, producent i współk
 ompozytor debiutanckiej solowej płyty Katarzyny Nosowskiej „Puk\, puk
 ”\, założyciel zespołu Indios Bravos\, autor solowej płyty „Wu-Wei
 ” z udziałem Abradab\, Alicji Janosz\, Gutka i Tomka Lipińskiego) oraz
  grająca na instrumentach klawiszowych i perkusyjnych wokalistka Kasia 
 „Kafi” Sondej. Nazwa zespołu to skrót od nazwiska gitarzysty i pseud
 onimu wokalistki. \n\nW zeszłym roku do duetu dołączył Marcin Żabieł
 owicz\, gitarzysta grupy Hey\, współpracujący w przeszłości z Natali
 ą Kukulską czy Edytą Bartosiewicz oraz Jacek Mazurkiewicz. \nBanach i K
 afi wystąpili gościnnie na trasie Fayrant\, którą zespół Hey zagrał
  przed zawieszeniem działalności. \n\nNa początku 2018 r. ukazała się
  ich debiutancka płyta\, zatytułowana „Byty Zależne”. Album to zbi
 ór czternastu autorskich kompozycji\, w których pobrzmiewają echa róż
 nych stylistyk - od rocka\, przez reggae\, aż po elektronikę. Aktualnie 
 zespół koncertuje i pracuje nad nowym materiałem. \n\n\nFB: https://www
 .facebook.com/banachikafi/ \n\n„Jeśli tylko to będzie możliwe”: htt
 ps://www.youtube.com/watch?v=34mNopqCqjI\n\n„A Ty czego chcesz”: https
 ://www.youtube.com/watch?v=AmrZjZzbats
ATTACH;FMTTYPE=image/jpeg:https://night4u.pl/wp-content/uploads/2019/10/70
 498_image_71099063_2472947732977054_8520669134726365184_n.jpg
CATEGORIES:podkarpackie
LOCATION:Lord Jack Rzeszów\, Rynek 4\, Rzeszów\, 35-064\, Poland
GEO:50.03706;22.00432
X-APPLE-STRUCTURED-LOCATION;VALUE=URI;X-ADDRESS=Rynek 4\, Rzeszów\, 35-064
 \, Poland;X-APPLE-RADIUS=100;X-TITLE=Lord Jack Rzeszów:geo:50.03706,22.00
 432
END:VEVENT
BEGIN:VTIMEZONE
TZID:Europe/Warsaw
X-LIC-LOCATION:Europe/Warsaw
BEGIN:STANDARD
DTSTART:20191027T020000
TZOFFSETFROM:+0200
TZOFFSETTO:+0100
TZNAME:CET
END:STANDARD
END:VTIMEZONE
END:VCALENDAR