BEGIN:VCALENDAR
VERSION:2.0
PRODID:-//wp-events-plugin.com//7.2.3.1//EN
TZID:Europe/Warsaw
X-WR-TIMEZONE:Europe/Warsaw
BEGIN:VEVENT
UID:14482@night4u.pl
DTSTART;TZID=Europe/Warsaw:20190517T200000
DTEND;TZID=Europe/Warsaw:20190518T020000
DTSTAMP:20190430T144333Z
URL:https://night4u.pl/wydarzenia/koncert-baltic-boys-sdg/
SUMMARY:Koncert Baltic Boys & SDG
DESCRIPTION:Baltic Boys i SDG ma zaszczyt zaprosić was na koncert\, który
  odbędzie się 17 maja w bydgoskiej Estradzie.\nArtysci\, którzy pojawi
 ą się na scenie:\n- Floras\n- Santez\n- Tiff\n- Vosv\n- Alien SDG\n- Plu
 tixon\n- Kangi\n- Dvp1\n- Chujztym\n- VDI\nOprócz występu artystów czek
 a na was:\n→ Relacja fotograficzna\n→ Możliwość zakupienia płyt: S
 antez "Mirror EP'\, Alien&Młody "Bakaland"\n\nOsoby niepełnoletnie\, kt
 óre nie ukończyły 18 lat powinny mieć ze sobą pisemną zgodę opiekun
 ów prawnych. Osoby\, które nie ukończyły 16 lat mogę wejść tylko z 
 opiekunem prawnym lub osobą pisemnie upoważnioną. Opiekun również mus
 i posiadać bilet. \nWzór zgody: http://www.mastyla.com/files/oswiadczeni
 e.pdf
ATTACH;FMTTYPE=image/jpeg:https://night4u.pl/wp-content/uploads/2019/04/36
 040_image_58790278_1557617231035127_7128278627564650496_o.jpg
CATEGORIES:kujawsko-pomorskie
LOCATION:Teatro Cubano Krakow - Resto & Rum Bar\, Jagiellońska 10\, Krakó
 w\, 31-010\, Poland
GEO:50.062036;19.934646
X-APPLE-STRUCTURED-LOCATION;VALUE=URI;X-ADDRESS=Jagiellońska 10\, Kraków\
 , 31-010\, Poland;X-APPLE-RADIUS=100;X-TITLE=Teatro Cubano Krakow - Resto 
 & Rum Bar:geo:50.062036,19.934646
END:VEVENT
BEGIN:VTIMEZONE
TZID:Europe/Warsaw
X-LIC-LOCATION:Europe/Warsaw
BEGIN:DAYLIGHT
DTSTART:20190331T030000
TZOFFSETFROM:+0100
TZOFFSETTO:+0200
TZNAME:CEST
END:DAYLIGHT
END:VTIMEZONE
END:VCALENDAR