BEGIN:VCALENDAR
VERSION:2.0
PRODID:-//wp-events-plugin.com//7.2.3.1//EN
TZID:Europe/Warsaw
X-WR-TIMEZONE:Europe/Warsaw
BEGIN:VEVENT
UID:2541@night4u.pl
DTSTART;TZID=Europe/Warsaw:20190125T200000
DTEND;TZID=Europe/Warsaw:20190125T220000
DTSTAMP:20190104T231815Z
URL:https://night4u.pl/wydarzenia/koncert-bartas-szymoniak/
SUMMARY:Koncert Bartas Szymoniak
DESCRIPTION:Bartas Szymoniak - to Artysta kreujący nowe zjawisko na polski
 ej scenie muzycznej. BEATROCK - to gatunek łączący elementy beatboxu\, 
 wokali i żywych instrumentów. Absolwent Wydziału Jazzu AM w Katowicach\
 , laureat "IDOLA"\, były frontman grupy Sztywny Pal Azji (2008-2015). Mar
 ek Sierocki powiedziął o nim\, że tworzy nowy gatunek muzyki\, tak samo
  napisał Onet.pl\n\nWszystkie dźwięki tworzy na żywo sam (bas\, perkus
 ja\, trabki\, śpiew itd.) a następnie zapętla na tzw looper. Dźwięk p
 o dźwięku\, warstwa po warstwie. Tak powstają kompozycje Artysty - czł
 owieka orkiestry. Towarzyszy mu jedynie gitarzysta i wokalista - Michał P
 arzymięso. \n\nPłyta "Alarm"\, nagrana w taki właśnie sposób - jest p
 ierwszą tego typu w Polsce\, będącą jednocześnie ilustracją muzyczn
 ą do słów najważniejszych poetów pokolenia Kolumbów (wiersze A.Słon
 imskiego\, K.K. Baczyńskiego oraz T.Gajcego). Płyta obok "Powstania" Lao
  Che i "Jestem przestrzeń " Moniki Borzym\, zaliczana jest obecnie do naj
 ważniejszych w tej tematyce. Krążek nominowany został również do nag
 rody specjalnej "Strażnika Historii" \n\nPodczas koncertu - usłyszymy za
 pewne legendarny utwór "Kocham Wolność" Chłopców z Placu Broni we wł
 asnej aranżacji Artysty\, którego premiera miała miejsce w 18. rocznic
 ę śmierci Bogdana Łyszkiewicza - 23.06.2018 r. Utwór przez 13 tygodni 
 znajdował się w czołówce listy przebojów Programu Trzeciego Polskiego
  Radia. Jest pierwszym polskim utworem nagranym jedynie za pomocą beatbox
 u i gitary\, który znalazł się na tej liście i dotarł tak wysoko!\n\n
 Obecnie Artysta przygotowuje nowy materiał którego premiera jesienią 20
 19 r. //\n\n\nhttps://www.youtube.com/watch?v=1GFsRnGGV3w\nhttps://www.you
 tube.com/watch?v=Sv7h1nQrwNM\nhttps://www.youtube.com/watch?v=OjWuFs8ZYdw\
 n______________________________________________________\n\nBilety dostępn
 e od 07.01 br\n\nprzedsprzedaż 20 zł bilet\nw dniu koncertu 25 zł bilet
 \n\ndo nabycia \n- w klubie\n- online abilet\n\n__________________________
 ____________________________\n\nW celu rezerwacji stolika podczas wydarzen
 ia\, prosimy o kontakt telefoniczny pod numerem 537200681.\n______________
 ________________________________________\n\n#fabryka #koncert #muzykanaży
 wo #Bartas #Szymoniak #zielonagora #moniuszki #dobregranie #rock #BEATROCK
  #Idol
ATTACH;FMTTYPE=image/jpeg:https://night4u.pl/wp-content/uploads/2019/01/91
 71_image_49495971_372799506820011_2091118593151336448_n.jpg
CATEGORIES:lubuskie
LOCATION:Fabryka\, ul. Moniuszki 16\, Zielona Góra\, 65-001\, Poland
GEO:51.93424;15.50022
X-APPLE-STRUCTURED-LOCATION;VALUE=URI;X-ADDRESS=ul. Moniuszki 16\, Zielona 
 Góra\, 65-001\, Poland;X-APPLE-RADIUS=100;X-TITLE=Fabryka:geo:51.93424,15
 .50022
END:VEVENT
BEGIN:VTIMEZONE
TZID:Europe/Warsaw
X-LIC-LOCATION:Europe/Warsaw
BEGIN:STANDARD
DTSTART:20181028T020000
TZOFFSETFROM:+0200
TZOFFSETTO:+0100
TZNAME:CET
END:STANDARD
END:VTIMEZONE
END:VCALENDAR