BEGIN:VCALENDAR
VERSION:2.0
PRODID:-//wp-events-plugin.com//7.2.3.1//EN
TZID:Europe/Warsaw
X-WR-TIMEZONE:Europe/Warsaw
BEGIN:VEVENT
UID:49270@night4u.pl
DTSTART;TZID=Europe/Warsaw:20200313T200000
DTEND;TZID=Europe/Warsaw:20200313T220000
DTSTAMP:20200309T095833Z
URL:https://night4u.pl/wydarzenia/koncert-bluectrl-vrcafe-13-03/
SUMMARY:Koncert bluectrl / VRCafe /13.03
DESCRIPTION:Polikultura zaprasza na pierwszy koncert bluectrl w Krakowie!  
 \n\nbluectrl to artysta tworzący niebanalne brzmienia w charakterystyczej
  dla siebie stylistyce. Odnosi sukcesy na listach sprzedaży i w serwisach
  streamingowych (ponad 100 000 odsłuchań). \nJego najnowszy singiel BATH
 ROOM TRIPS stał się #1 w najnowszym rankingu iTUNES.  \n\nKIEDY : 13.03\
 , godzina 20.00\nGDZIE : VRCafe ul. Dolnych Młynów 10 \nWSTĘP : 20 zł 
 - bilety do nabycia online oraz na miejscu w dniu koncertu\n______________
 ___________________________________\nPOSŁUCHAJ NOWEGO SINGLA BLUECTRL\nba
 throom trips 👉 http://bit.ly/bathroomtrips
ATTACH;FMTTYPE=image/jpeg:https://night4u.pl/wp-content/uploads/2020/03/17
 0604_image_89029515_1291166647742477_3860485389269598208_n.jpg
CATEGORIES:małopolskie
LOCATION:VRCafe\, Dolnych młynów 10\, Kraków\, 31-124\, Poland
GEO:50.064441;19.926333
X-APPLE-STRUCTURED-LOCATION;VALUE=URI;X-ADDRESS=Dolnych młynów 10\, Krak
 ów\, 31-124\, Poland;X-APPLE-RADIUS=100;X-TITLE=VRCafe:geo:50.064441,19.9
 26333
END:VEVENT
BEGIN:VTIMEZONE
TZID:Europe/Warsaw
X-LIC-LOCATION:Europe/Warsaw
BEGIN:STANDARD
DTSTART:20191027T020000
TZOFFSETFROM:+0200
TZOFFSETTO:+0100
TZNAME:CET
END:STANDARD
END:VTIMEZONE
END:VCALENDAR