BEGIN:VCALENDAR
VERSION:2.0
PRODID:-//wp-events-plugin.com//7.2.3.1//EN
TZID:Europe/Warsaw
X-WR-TIMEZONE:Europe/Warsaw
BEGIN:VEVENT
UID:33493@night4u.pl
DTSTART;TZID=Europe/Warsaw:20191122T200000
DTEND;TZID=Europe/Warsaw:20191123T000000
DTSTAMP:20191118T154634Z
URL:https://night4u.pl/wydarzenia/koncert-buskers-band-aco-ad-libitum-22-1
 1-19-w-zascianku/
SUMMARY:Synestezje: Buskers Band\, ACO\, Ad Libitum! 22.11.19 w Zaścianku!
DESCRIPTION:Buskers Band\, Aco Project\, Ad Libitum\nKlub Zaścianek\nul. R
 ostafińskiego 4\n\nBilety: \n15 zł - przedsprzedaż\n20 zł - w dniu kon
 certu\n\nDostępne online:\nhttps://ticketclub.pl/miejsca/klub-zascianek-k
 rakow-40/\n\n\nBUSKERS BAND:\nSześciu młodych artystów o wspólnej pasj
 i do muzyki rozrywkowej. Wielbiciele muzyki streetowej i jej energii. Bras
 s band\, który od 2016 roku wypełnia ulice i sceny Małopolski dawką po
 zytywnej\, energetycznej muzyki. Oprócz wykonywania swoich aranżacji zna
 nych hitów na instrumenty dęte pracują również nad autorskim materia
 łem\, czego efekty będziecie mogli usłyszeć podczas koncertu. Mają r
 ównież na swoim koncie pierwszy krążek - „Fever” - który zdobywa 
 coraz szersze uznanie wśród fanów.\nOd początku swojej działalności 
 wystąpili przed m.in.: Nosowską\, Zalewskim\, Mrozem\, Krzysztofem Cugow
 skim czy Sarsą\, jak również uświetnili Galę Boksu Underground Boxing
  Show 2018 w Wieliczce oraz gościnnie zagrali w programie Master Chef Jun
 ior.\n\nPodczas swoich koncertów\, nie tylko tych ulicznych\, przyciągaj
 ą tłumy fanów\, a także porywają ich do szalonej zabawy! Jeśli lubis
 z energiczne i ostre brzmienie instrumentów dętych w towarzystwie rytmic
 znego i głośnego groove’u perkusji\, to z pewnością zostaniesz fanem
  twórczości Buskers Band!\nFB: https://www.facebook.com/BuskersBandKrako
 w/\nYT: https://www.youtube.com/channel/UCf4MgTmelVH66pTZsam18CA\n\nACO Pr
 oject:\nACO Project to kompilacja kilku różnych charakterów i upodobań
  muzycznych\, \npołączona jednym wspólnym zamiłowaniem do dźwięków.
  W mixie otrzymali pulsujące i porywające z krzeseł "pupki" brzmienie\,
  oraz kruszącą serca największych twardzieli wrażliwość. \n\nW tym n
 iejednoznacznym stylu aranżują i komponują materiał autorski na swój 
 pierwszy album. Mimo\, że ich działalność na rynku muzycznym jako zesp
 ołu nie przekracza dwóch lat\, doświadczenie sceniczne i muzyczne każd
 ego z członków zespołu sprawia wrażenie jakby istnieli od zawsze i stu
 procentowo przekłada się na niezapomniane wrażenia\, flow i dobrą ener
 gię\,  która na długo potrafi naładować akumulatory!\n\nNa każdym z 
 koncertów\, spotykają się z fantastycznym odbiorem i powracającą rów
 nie silną energią i radością ze strony słuchaczy. Naładowani budują
 cymi emocjami czują\, że robiąc muzykę bliską ich sercom\, szczerze z
 dobywają serca odbiorców.  Gwarancją zawodowego brzmienia są doświadc
 zeni muzycy\, ale nie tylko... wszyscy tworzący wyżej opisaną całość
  zawsze zostawiają kawałek siebie na scenie\, gdzie najważniejsze jest 
 serce... ❤\nFB: https://www.facebook.com/zespolmuzycznyaco/\nYT: https:/
 /www.youtube.com/channel/UChTs--xEC9TSIj3jYlYe-xg\n\nAD LIBITUM:\nHistoria
  zespołu rozpoczęła się w 2018 roku po jednej z prób uniwersyteckiej 
 orkiestry smyczkowej AGH - Con Fuoco\, kiedy to trzech muzyków doszło do
  wspólnego wniosku\, że chce realizować swoją pasję nie tylko na orki
 estrowym polu. Wynikiem tego było podjęcie decyzji o spróbowaniu swoich
  sił\, grając na krakowskich ulicach i rynku. Zaprezentowanie własnych 
 aranżacji popularnych utworów\, okraszonych improwizacją i zabawą brzm
 ieniem\, zostało bardzo pozytywnie odebrane\, niejednokrotnie gromadząc 
 duże grupy słuchaczy.     \nAd Libitum to połączenie trzech muzyków o
  odmiennych charakterach\,  różnych zainteresowaniach i spojrzeniu na ś
 wiat. Na pierwszy rzut oka trudne do złączenia składniki\, doskonale sc
 alają się we współtworzonej muzyce\, pozwalając uniknąć podążania
  utartymi schematami i dodając do niej coś wyjątkowego od każdego z wy
 konawców.
ATTACH;FMTTYPE=image/jpeg:https://night4u.pl/wp-content/uploads/2019/11/84
 140_image_74645302_2664206776934822_7344443073146912768_o.jpg
CATEGORIES:małopolskie
LOCATION:Klub Zaścianek\, ul. Rostafińskiego 4\, Kraków\, 30-072\, Polan
 d
GEO:50.068039;19.905487
X-APPLE-STRUCTURED-LOCATION;VALUE=URI;X-ADDRESS=ul. Rostafińskiego 4\, Kra
 ków\, 30-072\, Poland;X-APPLE-RADIUS=100;X-TITLE=Klub Zaścianek:geo:50.0
 68039,19.905487
END:VEVENT
BEGIN:VTIMEZONE
TZID:Europe/Warsaw
X-LIC-LOCATION:Europe/Warsaw
BEGIN:STANDARD
DTSTART:20191027T020000
TZOFFSETFROM:+0200
TZOFFSETTO:+0100
TZNAME:CET
END:STANDARD
END:VTIMEZONE
END:VCALENDAR