BEGIN:VCALENDAR
VERSION:2.0
PRODID:-//wp-events-plugin.com//7.2.3.1//EN
TZID:Europe/Warsaw
X-WR-TIMEZONE:Europe/Warsaw
BEGIN:VEVENT
UID:46812@night4u.pl
DTSTART;TZID=Europe/Warsaw:20200226T190000
DTEND;TZID=Europe/Warsaw:20200226T220000
DTSTAMP:20200331T142257Z
URL:https://night4u.pl/wydarzenia/koncert-charytatywny-lets-rock-dla-patry
 ka/
SUMMARY:Koncert charytatywny Let's Rock dla Patryka :-)
DESCRIPTION:Zapraszamy wszystkich na koncert charytatywny dla PatRysia :)\n
 Zagrają zespoły:\n- Resoraki\n- OK.NO\n- Uvaga\n- Prosto z mostów.\nPom
 iędzy występami zespołów będzie można nabyć koszulki i płyty z pod
 pisami \;)\n\nCałkowity przychód ze sprzedaży biletów i akcesoriów zo
 stanie przeznaczony na najdroższy lek świata dla chorego na rdzeniowy za
 nik mięśni typu 1 Patryka.\nJedyną szansą dla chłopca jest koszmarnie
  droga terapia genowa w USA. Jego powrót do zdrowia i możliwość dalsze
 go rozwoju została wyceniona na 9 mln zł\, z czego zebrano dotąd 6\,5 m
 ln zł.\nOgromna suma\, ale walczymy. Otwórzcie serca i pomóżcie nam ze
 brać tę ogromną kwotę. Jeszcze trochę i Patryk będzie mógł się pa
 kować w najważniejszą podróż swojego życia\, po zdrowie i życie.\nh
 ttps://www.siepomaga.pl/patrys
ATTACH;FMTTYPE=image/jpeg:https://night4u.pl/wp-content/uploads/2020/02/15
 4108_image_84117315_2572206409568380_5350701735172112384_n.jpg
CATEGORIES:dolnośląskie
LOCATION:Klub Muzyczny Liverpool\, Świdnicka 37\, Wroclaw\, 50-029\, Polan
 d
GEO:51.10401;17.03035
X-APPLE-STRUCTURED-LOCATION;VALUE=URI;X-ADDRESS=Świdnicka 37\, Wroclaw\, 5
 0-029\, Poland;X-APPLE-RADIUS=100;X-TITLE=Klub Muzyczny Liverpool:geo:51.1
 0401,17.03035
END:VEVENT
BEGIN:VTIMEZONE
TZID:Europe/Warsaw
X-LIC-LOCATION:Europe/Warsaw
BEGIN:STANDARD
DTSTART:20191027T020000
TZOFFSETFROM:+0200
TZOFFSETTO:+0100
TZNAME:CET
END:STANDARD
END:VTIMEZONE
END:VCALENDAR