BEGIN:VCALENDAR
VERSION:2.0
PRODID:-//wp-events-plugin.com//7.2.3.1//EN
TZID:Europe/Warsaw
X-WR-TIMEZONE:Europe/Warsaw
BEGIN:VEVENT
UID:2540@night4u.pl
DTSTART;TZID=Europe/Warsaw:20190118T200000
DTEND;TZID=Europe/Warsaw:20190118T220000
DTSTAMP:20190104T231814Z
URL:https://night4u.pl/wydarzenia/koncert-charytatywny-rage-against-the-ma
 chine-band-dla-zwierzat/
SUMMARY:Koncert charytatywny Rage Against The Machine Band dla zwierząt!
DESCRIPTION:Po raz kolejny realizujemy w Klubie Fabryka akcję na rzecz Zie
 lonogórskich zwierzaków\, których los nie jest nam obojętny! \nTym raz
 em do współpracy przyłączył się kochający zwierzęta zielonogórski
  Zespół RAGE AGAINST THE MACHINE BAND. Muzycy zagrają by pomóc. Bilety
  kosztują min 10 zł\, ale jeśli ktoś może i zechce zapłacić więcej
 \, to oczywiście wszystko przekazane zostanie na potrzeby słodziaków z 
 zielonogórskiego schroniska dla zwierząt! Z zebranych pieniędzy zakupio
 na zostanie karma i inne niezbędne rzeczy. \n\nArtyści piszą o sobie ta
 k:\nCzy byłeś kiedyś na koncercie Rage Against The Machine? Ja też nie
 . Dlatego zielonogórscy chłopcy postanowili dać Ci tą możliwość..Za
 wiązali zespół RAGE AGAINST THE MACHINE BAND i grają utwory z pierwsze
 j i drugiej płyty\, prawie tak samo jak chłopcy z USA a czasem nawet i l
 epiej. W skład tego projektu weszli wyrafinowani muzycy z co najmniej 15 
 letnim stażem w branży muzycznej.Każdy z nich grał już w wielu muzycz
 nych projektach i często gęsto przewijały się w nich utwory tej słynn
 ej amerykańskiej grupy. Charyzmatyczny Buras (vocal) daje czadu równie d
 obrze jak Zack de la Rocha a momentami Zack pozazdrościłby mu wyskoku i 
 "wykonu" (if you know what I meen) .Za gitarę złapało się dwóch wycze
 sanych gitarzystów Filipster (guitar) oraz Czsiu (guitar) \, którzy cał
 e swoje prawie życie poświęcili grze na tym instrumencie.Żaden z nich 
 nie jest godzien odwiązać rzemyka u sandała Toma Morello ale znaleźli 
 pomysł jak przełożyć te fenomenalne rify i solówki na swój sposób.C
 hłopcy postanowili by były dwie gitary aby na scenie podczas koncertów 
 nie utracić tej niepowtarzalnej energii\, a co dwie gitary to nie jedna F
 ilipster z Czesiem zagniatając na wieśle mają pewność\,że ich szalon
 ym poczynaniom bacznie przypatruje się Weba (bass)\,który na swej cztero
 strunówce opracował do perfekcji groow-owe bicia i brzmienia bass-owe\, 
 których nie trzeba tłumaczyć.A Ci którzy mieli szczęście być na kon
 cercie tego legendarnego składu z Los Angeles zdadzą sobie sprawę że W
 eba nie żartuje a Tim Commerford z czystym sumieniem mógłby mu przybić
  "klepke sztajmesa" .Na perce zasiadł człowiek który zapytany dlaczego 
 ten zespół powstał odpowiada:"Gdy dorosne i będe miał dzieci.To będe
  im opowiadać o RAGE AGAINST THE MACHINE tak jak mój ojciec opowiadał m
 i o takich zespołach jak (Led Zepelin\,Deep Purple\,Pink Floyd).Dla mnie 
 jest to zespół który w naszym okresie dojrzewania wywarł największe w
 rażenie i ukierunkował nasz światopogląd.Guzik bo o nim mowa.Bije w ba
 niaki jak szaleniec\, łamie talerze i dziurawi werble.Ten nieobliczalny "
 TYP" jest zdolny do wszystkiego.Brad Wilk na pewno po koncercie zaprosiłb
 y go do baru na głębszego. Zapraszamy serdecznie na nasze koncerty. Obie
 cujemy że na pewno wstaniecie z krzeseł i przypomnicie sobie co to kultu
 ralne "POGO"
ATTACH;FMTTYPE=image/jpeg:https://night4u.pl/wp-content/uploads/2019/01/91
 69_image_49454866_373323136767648_4470032735670370304_o.jpg
CATEGORIES:lubuskie
LOCATION:Fabryka\, ul. Moniuszki 16\, Zielona Góra\, 65-001\, Poland
GEO:51.93424;15.50022
X-APPLE-STRUCTURED-LOCATION;VALUE=URI;X-ADDRESS=ul. Moniuszki 16\, Zielona 
 Góra\, 65-001\, Poland;X-APPLE-RADIUS=100;X-TITLE=Fabryka:geo:51.93424,15
 .50022
END:VEVENT
BEGIN:VTIMEZONE
TZID:Europe/Warsaw
X-LIC-LOCATION:Europe/Warsaw
BEGIN:STANDARD
DTSTART:20181028T020000
TZOFFSETFROM:+0200
TZOFFSETTO:+0100
TZNAME:CET
END:STANDARD
END:VTIMEZONE
END:VCALENDAR