BEGIN:VCALENDAR
VERSION:2.0
PRODID:-//wp-events-plugin.com//7.2.3.1//EN
TZID:Europe/Warsaw
X-WR-TIMEZONE:Europe/Warsaw
BEGIN:VEVENT
UID:32846@night4u.pl
DTSTART;TZID=Europe/Warsaw:20191108T190000
DTEND;TZID=Europe/Warsaw:20191108T233000
DTSTAMP:20191107T161656Z
URL:https://night4u.pl/wydarzenia/koncert-dla-stasiastego/
SUMMARY:Koncert dla Stasiastego
DESCRIPTION:Koncert charytatywny\n\ndla Stasiastego\n\nwieloletniego muzyka
  legnickich kapel\, m.in. MARII NEFELI\, ZIELONEGO GROSZKA\, który od kil
 ku miesięcy walczy z ciężką chorobą. Zbieramy pieniądze na dalsze le
 czenie i rehabilitację\n\nZagrają grupy w następującej kolejności:\n\
 nZielony Groszek\n\nDILER - music band\n\nRoyalBeggars\n\nMetalion\n\nMari
 a Nefeli - strona nieoficjalna\n\nGa-Ga Zielone Żabki\n\n\nWstęp: 10 zł
  (lub więcej) - do puszki\n\nPodczas imprezy licytacje - tylko muzyczne. 
 \nW dziale "dyskusja" publikujemy przekazane nam fanty przez wykonawców c
 zy osoby prywatne. Dziękujemy bardzo!!\n\nJeśli Twój zespół lub jako 
 osoba prywatna chcielibyście przekazać płytę\, kasetę\, koszulkę\, i
 tp. związane z muzyką\, to prosimy o kontakt (bgk@lck.art.pl\, 781 612 9
 83 paweł jurczyk).
ATTACH;FMTTYPE=image/jpeg:https://night4u.pl/wp-content/uploads/2019/10/80
 290_image_73286526_790862064676620_4674674338048245760_o.jpg
CATEGORIES:dolnośląskie
LOCATION:Klub Spiżarnia\, Piastowska 1\, Legnica\, 59-220\, Poland
GEO:51.207752;16.155634
X-APPLE-STRUCTURED-LOCATION;VALUE=URI;X-ADDRESS=Piastowska 1\, Legnica\, 59
 -220\, Poland;X-APPLE-RADIUS=100;X-TITLE=Klub Spiżarnia:geo:51.207752,16.
 155634
END:VEVENT
BEGIN:VTIMEZONE
TZID:Europe/Warsaw
X-LIC-LOCATION:Europe/Warsaw
BEGIN:STANDARD
DTSTART:20191027T020000
TZOFFSETFROM:+0200
TZOFFSETTO:+0100
TZNAME:CET
END:STANDARD
END:VTIMEZONE
END:VCALENDAR