BEGIN:VCALENDAR
VERSION:2.0
PRODID:-//wp-events-plugin.com//7.2.3.1//EN
TZID:Europe/Warsaw
X-WR-TIMEZONE:Europe/Warsaw
BEGIN:VEVENT
UID:44253@night4u.pl
DTSTART;TZID=Europe/Warsaw:20200229T200000
DTEND;TZID=Europe/Warsaw:20200229T220000
DTSTAMP:20200229T010128Z
URL:https://night4u.pl/wydarzenia/koncert-doc/
SUMMARY:Koncert DOC. !
DESCRIPTION:Zespół DOC. powraca do Klubu K15 ! Na pewno będzie tłoczno\
 , głośno\, wybuchowo i rockowo ! \n\nProjekt DOC .powstał latem 2014 ro
 ku z inicjatywy dwóch ...lekarzy z Łańcuta: neurologa Konrada Bauma i g
 astroenterologa/internistę\,\nTomasza Ryznara.\n\nPomimo tak odpowiedzial
 nej i czasochłonnej pracy obaj muzycy mają za sobą spore doświadczenie
  i historię muzyczną z niemałymi\nsukcesami.\n\nDo lekarzy dołączyli 
 zawodowi muzycy z Podkarpacia Witold\nDrapała -instrumenty klawiszowe\,: 
 Kacper Radek-gitara oraz Filip\nŁukaszewicz-perkusja. Zespół jest mocno
  rozpoznawalny muzycznie\, ponieważ w takim krótkim czasie wypracował j
 uż własny styl i brzmienie oparte na rocku i bluesrocka z elementami r'n
 'b .\n\nWiosną 2016 r .odbyła się premiera pierwszego singla DOC-a pt."
 Dom"\n\n10 lutego 2017 r odbyła się premiera pierwszej płyty DOC.\npt "
 Dla kilku chwil" a wraz z nią promujący płytę teledysk do\nutworu "Poz
 wól mi"\n\nOd 2017 r DOC. "grany" jest regularnie na antenie Polskiego Ra
 dia\nRzeszów oraz innych rozgłośni Podkarpacia.\n\nPoczątkiem roku 201
 8 zespół wygrał prestiżowy plebiscyt Radia\nRzeszów- WERBEL’2017.\n
 \nDebiutancka płyta DOC-a okrzyknięta została jako ta najlepsza\nspośr
 ód twórców Podkarpacia w 2017\, zaś Nagrodą był m/ innymi\nkoncert f
 inałowy przed Ray Wilson w rzeszowskim Klubie LUKR oraz nagranie kolejnej
  płyty w Studio Radia Rzeszów!!!!\n\nW maju zespół wystąpił w progra
 mie Dzien Dobry TVN z utworem "Moje Miejsce "\n\nWiosną 2019 miała miejs
 ce premiera nowego singla pt-"Spalony"\nTeledysk do utworu stworzył i wyr
 eżyserował znany warszawki reżyser Maciej "ARCHON" Michalski-laureat wi
 elu międzynarodowych nagród \,współpracujący m/in z Justyną Steczkow
 ską.\n\nSkład zespołu:\n\nKonrad Baum-wokal\,gitara\n\nTomasz Ryznar-ba
 s\n\nWitold Drapała -ins\, klawiszowe\n\nKacper Radek-gitara\n\nFilip Łu
 kaszewicz-perkusja\n\nwww.zespol-doc.pl\n\nhttps://pl-pl.facebook.com/zesp
 olDOC/\n\nBilety: 30 zł przedsprzedaż (do nabycia w lokalu)\, 40 zł (w 
 dniu wydarzenia). \nRezerwacja miejsc: 13 43 277 11
ATTACH;FMTTYPE=image/jpeg:https://night4u.pl/wp-content/uploads/2020/01/14
 2283_image_82599601_2844675815554642_6683282499159719936_n.jpg
CATEGORIES:podkarpackie
LOCATION:Klub K15\, Krakowska 15\, Krosno\, 38-400\, Poland
GEO:49.697949;21.752425
X-APPLE-STRUCTURED-LOCATION;VALUE=URI;X-ADDRESS=Krakowska 15\, Krosno\, 38-
 400\, Poland;X-APPLE-RADIUS=100;X-TITLE=Klub K15:geo:49.697949,21.752425
END:VEVENT
BEGIN:VTIMEZONE
TZID:Europe/Warsaw
X-LIC-LOCATION:Europe/Warsaw
BEGIN:STANDARD
DTSTART:20191027T020000
TZOFFSETFROM:+0200
TZOFFSETTO:+0100
TZNAME:CET
END:STANDARD
END:VTIMEZONE
END:VCALENDAR