BEGIN:VCALENDAR
VERSION:2.0
PRODID:-//wp-events-plugin.com//7.2.3.1//EN
TZID:Europe/Warsaw
X-WR-TIMEZONE:Europe/Warsaw
BEGIN:VEVENT
UID:50096@night4u.pl
DTSTART;TZID=Europe/Warsaw:20200328T210000
DTEND;TZID=Europe/Warsaw:20200329T060000
DTSTAMP:20200318T175637Z
URL:https://night4u.pl/wydarzenia/koncert-eratox-dj-huherko/
SUMMARY:Koncert Eratox\, Dj Huherko
DESCRIPTION:W ostatnią sobotę marca zapraszamy na koncert zespołu ERATOX
  !!!\nusłyszycie min: \n"Zakochaj się" \nhttps://www.youtube.com/watch?v
 =Ct9w2fNab94\n"Tylko z nią" \nhttps://www.youtube.com/watch?v=HIBpWtp_IC4
 \n"Numerek"\nhttps://www.youtube.com/watch?v=4eD3TvPkzB8\nza konsolą DJ Y
 OOSHI \n\nsala klubowa DJ HUHERKO oraz nasz rezydent DJ BRONEK !!!\n\ndata
 : 28.03 / sobota\nwstęp:  20 zł \npoczątek g. 21.00
ATTACH;FMTTYPE=image/jpeg:https://night4u.pl/wp-content/uploads/2020/03/17
 4990_image_89768410_1909441295854649_4110290544154902528_o.jpg
CATEGORIES:mazowieckie
LOCATION:Explosion Club\, Wał Miedzeszyński 646\, Gocław\, 03-994\, Pola
 nd
GEO:52.221503;21.084759
X-APPLE-STRUCTURED-LOCATION;VALUE=URI;X-ADDRESS=Wał Miedzeszyński 646\, G
 ocław\, 03-994\, Poland;X-APPLE-RADIUS=100;X-TITLE=Explosion Club:geo:52.
 221503,21.084759
END:VEVENT
BEGIN:VTIMEZONE
TZID:Europe/Warsaw
X-LIC-LOCATION:Europe/Warsaw
BEGIN:STANDARD
DTSTART:20191027T020000
TZOFFSETFROM:+0200
TZOFFSETTO:+0100
TZNAME:CET
END:STANDARD
BEGIN:DAYLIGHT
DTSTART:20200329T030000
TZOFFSETFROM:+0100
TZOFFSETTO:+0200
TZNAME:CEST
END:DAYLIGHT
END:VTIMEZONE
END:VCALENDAR