BEGIN:VCALENDAR
VERSION:2.0
PRODID:-//wp-events-plugin.com//7.2.3.1//EN
TZID:Europe/Warsaw
X-WR-TIMEZONE:Europe/Warsaw
BEGIN:VEVENT
UID:31253@night4u.pl
DTSTART;TZID=Europe/Warsaw:20191010T210000
DTEND;TZID=Europe/Warsaw:20191010T210000
DTSTAMP:20191009T200635Z
URL:https://night4u.pl/wydarzenia/koncert-flowrockin-2/
SUMMARY:Koncert FlowRockin
DESCRIPTION:Zapraszamy bardzo serdecznie na kolejną dawkę pozytywnych emo
 cji która będziemy serwować już w czwartek o 21 \;) #Flowrockin
ATTACH;FMTTYPE=image/jpeg:https://night4u.pl/wp-content/uploads/2019/10/72
 650_image_72396277_940555852971079_8674564723544424448_o.jpg
CATEGORIES:dolnośląskie
LOCATION:PUB Schody Donikąd\, Plac Solny 13\, Wroclaw\, 50-061\, Poland
GEO:51.10906;17.02869
X-APPLE-STRUCTURED-LOCATION;VALUE=URI;X-ADDRESS=Plac Solny 13\, Wroclaw\, 5
 0-061\, Poland;X-APPLE-RADIUS=100;X-TITLE=PUB Schody Donikąd:geo:51.10906
 ,17.02869
END:VEVENT
BEGIN:VTIMEZONE
TZID:Europe/Warsaw
X-LIC-LOCATION:Europe/Warsaw
BEGIN:DAYLIGHT
DTSTART:20190331T030000
TZOFFSETFROM:+0100
TZOFFSETTO:+0200
TZNAME:CEST
END:DAYLIGHT
END:VTIMEZONE
END:VCALENDAR