BEGIN:VCALENDAR
VERSION:2.0
PRODID:-//wp-events-plugin.com//7.2.3.1//EN
TZID:Europe/Warsaw
X-WR-TIMEZONE:Europe/Warsaw
BEGIN:VEVENT
UID:51077@night4u.pl
DTSTART;TZID=Europe/Warsaw:20211008T200000
DTEND;TZID=Europe/Warsaw:20211008T233000
DTSTAMP:20210908T144738Z
URL:https://night4u.pl/wydarzenia/koncert-hemp-gruniziol-wejherowo-klub-ho
 t-spot/
SUMMARY:Koncert Hemp Gru•Nizioł/Wejherowo/Klub Hot Spot
DESCRIPTION:Novy wraz z klubem Hot Spot Wejherowo maja zaszczyt zaprosić n
 a pierwszy koncert Hemp Gru oraz Nizioła. \nInformacje o biletach niedłu
 go
ATTACH;FMTTYPE=image/jpeg:https://night4u.pl/wp-content/uploads/2021/09/18
 6359_image_241617591_328249562420352_5332214959897422378_n.jpg
CATEGORIES:pomorskie
LOCATION:Klub Hot-Spot\, 12 Marca 193\, Wejherowo\, 84-200\, Poland
GEO:54.601443;18.243748
X-APPLE-STRUCTURED-LOCATION;VALUE=URI;X-ADDRESS=12 Marca 193\, Wejherowo\, 
 84-200\, Poland;X-APPLE-RADIUS=100;X-TITLE=Klub Hot-Spot:geo:54.601443,18.
 243748
END:VEVENT
BEGIN:VTIMEZONE
TZID:Europe/Warsaw
X-LIC-LOCATION:Europe/Warsaw
BEGIN:DAYLIGHT
DTSTART:20210328T030000
TZOFFSETFROM:+0100
TZOFFSETTO:+0200
TZNAME:CEST
END:DAYLIGHT
END:VTIMEZONE
END:VCALENDAR