BEGIN:VCALENDAR
VERSION:2.0
PRODID:-//wp-events-plugin.com//7.2.3.1//EN
TZID:Europe/Warsaw
X-WR-TIMEZONE:Europe/Warsaw
BEGIN:VEVENT
UID:49152@night4u.pl
DTSTART;TZID=Europe/Warsaw:20200423T190000
DTEND;TZID=Europe/Warsaw:20200423T220000
DTSTAMP:20200422T233258Z
URL:https://night4u.pl/wydarzenia/koncert-jahiar-irani-duo/
SUMMARY:Koncert Jahiar Irani Duo
DESCRIPTION:Koncert muzyki  perskiej- Jahiar Irani Duo\nZapraszamy na konce
 rt muzyki perskiej w wykonaniu Jahiar Irani \nbilety po 40\,- zł rezerwac
 ja 607 260 770 albo lecw@wp.pl\nDuo. Usłyszycie tradycyjne melodie grane 
 na takich instrumentach jak santur czy daf perski. W świat orientu wprowa
 dzi Was Jahiar Irani z Iranu i oraz Arad Emamgholi z irańskiego Kurdystan
 u.\n\nJahiar Azim Irani – muzyk perski\, kompozytor\, poeta\, muzykolog 
 od wielu lat związany z Lublinem. Wykonuje muzykę opartą na unikatowym 
 śpiewie wysokotonowym\, tzw. magan\,grając jednocześnie na starożytnym
  perskim instrumencie strunowym santur. W tym zakresie nauki gry na santur
  uczył się pod kierunkiem mistrza Alego Asgar Zajadzanda\, ukończył st
 udia na Uniwersytecie Marii Curie-Skłodowskiej w Lublinie oraz Katolickim
  Uniwersytecie Lubelskim im. Jana Pawła II w Lublinie. Przez dziesięć l
 at prowadził międzynarodowy zespół Jahiar Group. Współpracował m.in
 . z Andrzejem Smolikiem\, VooVoo\, Teatrem im. Hansa Christiana Andersena 
 w Lublinie\, a także z Kayah nagrywając razem płytę w ramach Kayah &am
 p\; Transoriental Orchestra. Brał również udział jako muzyk przy tworz
 eniu produkcji telewizyjnych\, filmowych\, m.in. stworzył muzykę do pols
 kiego serialu TVP1„Bodo” (2016)\, „Tryptyk Rzymski Jan Paweł II”.
  Oprócz tego na swoim koncie ma kilka płyt powstałych w różnych skła
 dach muzycznych. Koncertuje w różnych składach w Polsce i zagranicą. W
 ięcej informacji: www.jahiarirani.com\nArad Emamgholi urodził się w 198
 3 roku w Sanandadż w irańskim Kurdystanie. Zaczął grać na dafie w wie
 ku 5 lat. W 1992 roku rozpoczął działalność muzyczną. Uczestniczył 
 w wielu festiwalach muzycznych i zdobył czterokrotnie nagrody na festiwal
 ach w stanie Kurdystan i na terenie Iranu. Zagrał wiele koncertów z ró
 żnymi zespołami w Iranie i za granicą. Współpracował z uznanymi komp
 ozytorami takimi jak Ostad Ahmad Pejman\, Farborz Lachini\, Naser Razzazi 
 i pracował także ze znanymi śpiewakami\, takimi jak Ostad Seddiq Tarif\
 , Hesamo – Al din Seraj\, Hurvash Khalili\, Ghasem Rafati. Nagrał równ
 ież własna płytę „Shure Daf”. Koncertował w Danii\, Turcji\, Szwe
 cji\, Libanie i wielu innych krajach. Obecnie mieszka w Teheranie i jest n
 auczycielem gry na dafie\, prowadzi warsztaty muzyczne i angażuje się w 
 różne projekty muzyczne.
ATTACH;FMTTYPE=image/jpeg:https://night4u.pl/wp-content/uploads/2020/03/17
 0247_image_87784947_2734616513242840_345577269114175488_n.jpg
CATEGORIES:lubelskie
LOCATION:Hades Szeroka\, Grodzka 21\, Lublin\, 20-112\, Poland
GEO:51.24958;22.56988
X-APPLE-STRUCTURED-LOCATION;VALUE=URI;X-ADDRESS=Grodzka 21\, Lublin\, 20-11
 2\, Poland;X-APPLE-RADIUS=100;X-TITLE=Hades Szeroka:geo:51.24958,22.56988
END:VEVENT
BEGIN:VTIMEZONE
TZID:Europe/Warsaw
X-LIC-LOCATION:Europe/Warsaw
BEGIN:DAYLIGHT
DTSTART:20200329T030000
TZOFFSETFROM:+0100
TZOFFSETTO:+0200
TZNAME:CEST
END:DAYLIGHT
END:VTIMEZONE
END:VCALENDAR