BEGIN:VCALENDAR
VERSION:2.0
PRODID:-//wp-events-plugin.com//7.2.3.1//EN
TZID:Europe/Warsaw
X-WR-TIMEZONE:Europe/Warsaw
BEGIN:VEVENT
UID:20423@night4u.pl
DTSTART;TZID=Europe/Warsaw:20190914T220000
DTEND;TZID=Europe/Warsaw:20190914T233000
DTSTAMP:20190917T200214Z
URL:https://night4u.pl/wydarzenia/koncert-lao-che-na-igrzyskach-wolnosci-2
 019/
SUMMARY:Koncert LAO CHE na Igrzyskach Wolności 2019
DESCRIPTION:Serdecznie zapraszamy na koncert Lao Che na Igrzyskach Wolnośc
 i 2019 "Jak zwyciężają demokracje?"! Igrzyska Wolności to spotkanie lu
 dzi ciekawych świata i głodnych nowych idei. To interdyscyplinarne forum
  kulturalne i intelektualne\, którego zasadniczym celem jest kreowanie tw
 órczej przestrzeni spotkania ludzi kultury\, biznesu i życia publicznego
  z różnych branż.\n\nKarnety na całe trzydniowe Igrzyska\, w tym trzy 
 koncerty w cenie dostępne 70 zł online. Promocja cenowa "early bird" tyl
 ko do 15 lipca. Nie warto czekać - \n\nLao Che to płocki zespół zało
 żony w 1999 roku. Od tego czasu wydał 7 albumów. Ich pomysł na muzykę
  to ciągłe poszukiwanie nowych form artystycznego wyrazu. Muzyka Lao Che
  łączy w sobie elementy rocka\, hip hopu\, elektroniki\, czy jazzu i fun
 ka.\n\nZnakiem rozpoznawczym są koncept-albumy takie jak: „Gusła”\, 
 „Gospel” \, „Powstanie Warszawskie”\, „Dzieciom”\, czy też na
 jnowszy album „Wiedza o Społeczeństwie”.\n\nZespół jest laureatem 
 wielu prestiżowych nagród\, w tym Fryderyka w kategorii „Rock” w lat
 ach 2016 i 2019.\n\nKoncert promujący nową płytę zespołu „Wiedza o 
 Społeczeństwie”\n\nNa nowej płycie zespół sięga do brzmień mogąc
 ych kojarzyć się z muzyką rozrywkową lat osiemdziesiątych jednak poda
 nych w charakterystyczny dla twórczości zespołu przetworzony sposób\, 
 nawiązujący do wielu gatunków muzycznych.\n\nZa produkcję płyty ponow
 nie odpowiada Piotr „Emade” Waglewski oraz Filip „Wieża” Różań
 ski. Do zespołu dołączył nowy muzyk – Karol Gola (saksofon barytonow
 y\, klawisze\, flet) znany między innymi z zespołów Pink Freud czy Jazz
 ombie.\n\nTytułowa „Wiedza o Społeczeństwie” to saga o ludzkich per
 ypetiach. Poczynania ludzi – ich słabości\, obawy\, wątpliwości\, uc
 zucia\, spostrzeżenia i marzenia ukazane z perspektywy Człowieka\, Polak
 a\, Ziemianina.\n\nZespół występuje w składzie:\n\nRafał Borycki – 
 bas\, wokal\n\nMariusz Denst – sampler\, wokal\n\nHubert Dobaczewski –
  wokal\, gitara\n\nMaciek Dzierżanowski – instrumenty perkusyjne\, Samm
 ler\, wokal\n\nMichał Jastrzębski – Szwed – perkusja\n\nKarol Gola 
 – saksofon\, flet\, klawisze\n\nFilip Różański – instrumenty klawis
 zowe\, wokal\n\nWięcej o wydarzeniu: www.igrzyskawolnosci.pl \n\nOrganiza
 tor: Fundacja Liberté!\n\nPartner Strategiczny:\nMiasto Łódź\, Łódzk
 ie Centrum Wydarzeń\n\nPartnerzy: \nOpen Society Foundations\, European L
 iberal Forum \n\nPartnerzy wspierający:\nFriedrich-Naumann-Stiftung Für 
 die Freiheit\, Orange\n\nPartnerzy merytoryczni:\n4Liberty.eu\, FOR - Foru
 m Obywatelskiego Rozwoju\, Fundacja Centrum im. Bronisława Geremka\, nien
 ieodpowiedzialni.pl\, KOD - Łódzkie\, Republikon Foundation\, Lithuanian
  Free Market Institute\, INESS\, Łódzka Arka Demokracji\n\nPartnerzy dia
 logu:\nAtlas Network\n\nPatronat medialny: Toya TV\, Gazeta Wyborcza
ATTACH;FMTTYPE=image/jpeg:https://night4u.pl/wp-content/uploads/2019/06/48
 996_image_62380676_2209764512473478_7655702973745463296_o.jpg
CATEGORIES:łódzkie
LOCATION:Atlas Arena\, Bandurskiego 7\, Łódź\, 94-020\, Poland
GEO:51.756105;19.426274
X-APPLE-STRUCTURED-LOCATION;VALUE=URI;X-ADDRESS=Bandurskiego 7\, Łódź\, 
 94-020\, Poland;X-APPLE-RADIUS=100;X-TITLE=Atlas Arena:geo:51.756105,19.42
 6274
END:VEVENT
BEGIN:VTIMEZONE
TZID:Europe/Warsaw
X-LIC-LOCATION:Europe/Warsaw
BEGIN:DAYLIGHT
DTSTART:20190331T030000
TZOFFSETFROM:+0100
TZOFFSETTO:+0200
TZNAME:CEST
END:DAYLIGHT
END:VTIMEZONE
END:VCALENDAR