BEGIN:VCALENDAR
VERSION:2.0
PRODID:-//wp-events-plugin.com//7.2.3.1//EN
TZID:Europe/Warsaw
X-WR-TIMEZONE:Europe/Warsaw
BEGIN:VEVENT
UID:31339@night4u.pl
DTSTART;TZID=Europe/Warsaw:20191026T210000
DTEND;TZID=Europe/Warsaw:20191027T040000
DTSTAMP:20191026T230642Z
URL:https://night4u.pl/wydarzenia/koncert-loverboy-%e2%98%85-sobota-26-10/
SUMMARY:Koncert Loverboy &amp\; Zespół Lovers ★ Sobota 26.10
DESCRIPTION:LOVERBOY ★ KONCERT\nZESPÓŁ LOVERS ★ 26.10\nZapraszamy na 
 jesienne koncerty!\n\nCzas na kolejne koncertowe wydarzenie! \nNa scenie p
 ojawi się LOVERBOY! Twórca hitów: "Zróbmy sobie fotę!"\, "Chcę buzia
 ka!"\, "Dobry mąż" i wielu innych. Tego wydarzenia naprawdę nie możeci
 e przegapić! Dodatkowo na naszej scenie przez cały wieczór największe 
 hity zagra i zaśpiewa ZESPÓŁ LOVERS! \n\nSOBOTA 26.10 | START: 21.00 | 
 BILETY: 20 PLN\n---------------------------------\n★ Magnum Club★Wach
 ów ★ul. Polna 13a★\n★ Rezerwacje : 605 050 240 ★\n★ Start : 21.
 00 ★
ATTACH;FMTTYPE=image/jpeg:https://night4u.pl/wp-content/uploads/2019/10/73
 078_image_72973516_2485497898153619_6601922822002442240_o.jpg
CATEGORIES:opolskie
LOCATION:Magnum CLUB Wachów\, Polna 13\, Wachów\, 46-300\, Poland
GEO:50.844965;18.388158
X-APPLE-STRUCTURED-LOCATION;VALUE=URI;X-ADDRESS=Polna 13\, Wachów\, 46-300
 \, Poland;X-APPLE-RADIUS=100;X-TITLE=Magnum CLUB Wachów:geo:50.844965,18.
 388158
END:VEVENT
BEGIN:VTIMEZONE
TZID:Europe/Warsaw
X-LIC-LOCATION:Europe/Warsaw
BEGIN:DAYLIGHT
DTSTART:20190331T030000
TZOFFSETFROM:+0100
TZOFFSETTO:+0200
TZNAME:CEST
END:DAYLIGHT
BEGIN:STANDARD
DTSTART:20191027T020000
TZOFFSETFROM:+0200
TZOFFSETTO:+0100
TZNAME:CET
END:STANDARD
END:VTIMEZONE
END:VCALENDAR