BEGIN:VCALENDAR
VERSION:2.0
PRODID:-//wp-events-plugin.com//7.2.3.1//EN
TZID:Europe/Warsaw
X-WR-TIMEZONE:Europe/Warsaw
BEGIN:VEVENT
UID:33308@night4u.pl
DTSTART;TZID=Europe/Warsaw:20191102T210000
DTEND;TZID=Europe/Warsaw:20191103T060000
DTSTAMP:20191102T083512Z
URL:https://night4u.pl/wydarzenia/koncert-moment-sala-klubowa-kalwi-i-remi
 /
SUMMARY:Koncert Moment \, sala klubowa Kalwi i Remi
DESCRIPTION:W sobotę 2 listopada koncert zespołu MOMENT !!!\nusłyszycie 
 takie przeboje jak: \n"Jesteś doskonała" \nhttps://www.youtube.com/watch
 ?v=2wAgfcEY0_0\n"Zawstydzona"\nhttps://www.youtube.com/watch?v=EHRaFtXb7Mc
 \n"Uśmiech rozpromieniony"\nhttps://www.youtube.com/watch?v=MNDaH8jGpkA\n
 "Niebieskie oczy"\nhttps://www.youtube.com/watch?v=7EYIj5WnbG4\nza konsol
 ą DJ FRAGLES !!!\n\nsala klubowa - KALWI i REMI !!!\nautorzy legendarnego
  kawałka " EXPLOSION"\nhttps://www.youtube.com/watch?v=4qae2BKuDEQ\noraz 
 innych produkcji :\n"You And I "\nhttps://www.youtube.com/watch?v=rufyCP7P
 K9c\n"Girls"\nhttps://www.youtube.com/watch?v=xFxKCQadVYE\ni inne\ntowarzy
 szyć im będzie nasz rezydent DJ BRONEK !!!\n\ndata: 2.11 / sobota\npocz
 ątek g. 21.00\nwstęp: 15 zł
ATTACH;FMTTYPE=image/jpeg:https://night4u.pl/wp-content/uploads/2019/10/82
 506_image_73019217_1759052220893558_2496116812115083264_o.jpg
CATEGORIES:mazowieckie
LOCATION:Explosion Club\, Wał Miedzeszyński 646\, Gocław\, 03-994\, Pola
 nd
GEO:52.221503;21.084759
X-APPLE-STRUCTURED-LOCATION;VALUE=URI;X-ADDRESS=Wał Miedzeszyński 646\, G
 ocław\, 03-994\, Poland;X-APPLE-RADIUS=100;X-TITLE=Explosion Club:geo:52.
 221503,21.084759
END:VEVENT
BEGIN:VTIMEZONE
TZID:Europe/Warsaw
X-LIC-LOCATION:Europe/Warsaw
BEGIN:STANDARD
DTSTART:20191027T020000
TZOFFSETFROM:+0200
TZOFFSETTO:+0100
TZNAME:CET
END:STANDARD
END:VTIMEZONE
END:VCALENDAR