BEGIN:VCALENDAR
VERSION:2.0
PRODID:-//wp-events-plugin.com//7.2.3.1//EN
TZID:Europe/Warsaw
X-WR-TIMEZONE:Europe/Warsaw
BEGIN:VEVENT
UID:36033@night4u.pl
DTSTART;TZID=Europe/Warsaw:20191227T200000
DTEND;TZID=Europe/Warsaw:20191228T033000
DTSTAMP:20191227T184806Z
URL:https://night4u.pl/wydarzenia/koncert-moof-zurek-morphe-x-kicek-bede/
SUMMARY:Koncert Moof / Żurek / Morphe x Kicek + Bede
DESCRIPTION:Klub Belfast z ogromną przyjemnością zapraszają na koncert 
 Moof \, promujący najnowsze jak i te starsze kawałki ekipy który odbęd
 zie się 27 grudnia w Radomsku w klubie Belfast. \n \nGoście: \nŻurek /C
 zęstochowa/ \nMorphe x Kicek + Bede \n\nPrzed i po koncercie cała imprez
 ę nakręcać będzie DJ Oh Karol /Pete/ \n\nBilety: 15 pln / przedsprzeda
 ż /  20 pln / dzień koncertu / \nBilety do nabycia na stronie Ticketos.p
 l  lub w siedzibie klubu. \nMiejsce: Belfast Klub \, Kasztelańska 3 \nSta
 rt : 20.00 \nOtwarcie lokalu: 19.30 \nKiedy: 27.12.2019 \n\nInfo/Bio kogo 
 na scenie zobaczymy :) :\n\nEmżet-rocznik '83 raper\,graficiarz(w stanie 
 spoczynku) który na swoim koncie ma kilka płyt.Członek takich projektó
 w jak UNT klik\,PNW(Projekt Na Wdechu) a obecnie MooF którego jest zało
 życielem.Właściciel studia Kalifornia Nagrania.Charakteryzuje go wokal 
 którego stara się używać nie tylko do rapowania ale także do eksperym
 entów jakim są jego refreny.Ma za sobą mnóstwo koncertów u boku artys
 tów z pierwszej ligi.\nDyskografia\;\nUnt Klik-Unikat\nEmżet solo-400 st
 yli jeden Emżet\nEmżet-FartCzyNieFart\nEmżet&amp\;Łukasz K.-Parexcelle
 nce\nEmżet&amp\;Jano27-Czarna Perła\n\n\nJanoDwaSiedem - producent muzyc
 zny\, rok urodzenia 1987. Produkcją muzyki zajmuje się od kilku lat. Cz
 łonek radomszczańskiej ekipy Moof\, gdzie zadebiutował. Współtwórca 
 albumu Emżet /Jano27-Czarna Perła\, który ukazał się tego roku. W nie
 dalekiej przyszłości pojawi się kilka projektów z jego udziałem.\n\nO
 WK-rocznik '89.raper\, writer zajawkowicz. Na swoim koncie ma luźne numer
 y solowe jak i featy z lokalnymi raperami.Dzialacz składu MooF którego E
 P można usłyszeć w sieci.\nTwardy\, solidny\, uliczny przekaz i klasycz
 ne brzmienia to atuty artysty którymi się charakteryzuje .\n\nDj Emgiede
 -rocznik'75\,rap odkrył w 1994r.a 2000r. zaczął go aktywnie tworzyć ja
 ko producent .Wyprodukował płytę Unt Klik (Emżet\,Radny\,Kael)Od 17 la
 t stale współpracuje z Emżetem jako producent\,Dj\,czsem kierowca.Przez
  kilka osób zwany"Grandpapą Radomszczańskiego Rapu"przez innych "Marian
 em"a przez dwie osoby TatąWięcej informacji wkrótce \n\nDj Stoprocent-r
 oczni'85 Turntablista\,pasjonat ciekawego dźwięku.Bierze czynny udział 
 w wielu skrecz sesjach odbywających się na terenie całego kraju a takż
 e w tegorocznym      IDA Poland 2017 w kat.scrach.Odpowiada za cuty na pł
 ycie Emżet&amp\;Jano27 ''Czarna Perła" i ściśle współpracuje z artya
 tami ze studia Kalifornia Nagrania\n\n⚠️ UWAGA! KLUB MA OGRANICZONĄ P
 OJEMNOŚĆ\,\n BARDZO PROSIMY O NIEZWLEKANIE Z ZAKUPEM BILETÓW⚠️
ATTACH;FMTTYPE=image/jpeg:https://night4u.pl/wp-content/uploads/2019/12/97
 083_image_78559437_2777423372278661_8921466729645735936_o.jpg
CATEGORIES:łódzkie
LOCATION:Belfast\, Kasztelańska 3\, Radomsko\, 97-500\, Poland
GEO:51.059406;19.443251
X-APPLE-STRUCTURED-LOCATION;VALUE=URI;X-ADDRESS=Kasztelańska 3\, Radomsko\
 , 97-500\, Poland;X-APPLE-RADIUS=100;X-TITLE=Belfast:geo:51.059406,19.4432
 51
END:VEVENT
BEGIN:VTIMEZONE
TZID:Europe/Warsaw
X-LIC-LOCATION:Europe/Warsaw
BEGIN:STANDARD
DTSTART:20191027T020000
TZOFFSETFROM:+0200
TZOFFSETTO:+0100
TZNAME:CET
END:STANDARD
END:VTIMEZONE
END:VCALENDAR