BEGIN:VCALENDAR
VERSION:2.0
PRODID:-//wp-events-plugin.com//7.2.3.1//EN
TZID:Europe/Warsaw
X-WR-TIMEZONE:Europe/Warsaw
BEGIN:VEVENT
UID:29897@night4u.pl
DTSTART;TZID=Europe/Warsaw:20191207T190000
DTEND;TZID=Europe/Warsaw:20191207T220000
DTSTAMP:20191031T074929Z
URL:https://night4u.pl/wydarzenia/koncert-my-own-wasteland-carol-markovsky
 -wszyscy-jemy-chmury/
SUMMARY:My Own Wasteland\, Carol Markovsky +Wszyscy Jemy Chmury | Olsztyn
DESCRIPTION:Trasa premierowa płyt "Bawić Się Śmiać" oraz "Prąd i Jazz
 " zespołów MY OWN WASTELAND i CAROL MARKOVSKY! Na trasie wystąpią rów
 nież gościnnie Wszyscy Jemy Chmury.\n\n➡️ 21:30 My Own Wasteland\n
 ➡️ 20:00 Carol Markovsky\n➡️ 19:00 Wszyscy Jemy Chmury\n➡️ BRA
 MKA - 15 PLN\n\n⚡️ 𝕸𝖞 𝕺𝖜𝖓 𝖂𝖆𝖘𝖙𝖊𝖑𝖆
 𝖓𝖉 ⚡️ --————\nhttps://www.facebook.com/myownwasteland.ba
 nd/\n(Warszawa) Rock Alternatywny / Punk Rock\n\nAktualnie w przygotowania
 ch do wydania płyty "Bawić Się Śmiać". Premiera 1 XII 2019 razem z te
 ledyskiem do piosenki "Bawić się śmiać".\n\nSKŁAD:\nKrzysztof "KRIS" 
 Miller - Wokal\, Gitara\nKrzysztof "BUFF" Buffi - Gitara basowa\, chórki\
 nPrzemysław "PEPE" Pryfer - Perkusja\n\n> BIO <\nRockowy zespół z Warsz
 awy założony w maju 2017 roku łączący w sobie masę energii\, skoczne
  i melodyczne riffy oraz oryginalne teksty opowiadające o pozytywnym i ut
 opijnym podejściu do świata w XXI wieku.\n\nInspiracją muzycznego tria 
 jest szeroka gama brzmień zaczynając przy rock'n'rollu\, zahaczając o p
 op-punk i grunge i kończąc na pograniczu hard rocka. Wszystko wzięte ra
 zem grupa przenosi na scenę emanując przy tym ogromną pozytywną energi
 ą i uśmiechem.\nEksperymentować i robić wszystko w swój oryginalny sp
 osób a przy tym bawić ile się da.\n\n> Dyskografia <\nNa przełomie sty
 cznia/lutego 2018 zespół wydał własnym nakładem debiutancką EPkę pt
 . "Nothing You Wanna Know" oraz nagrał 2 amatorskie teledyski do piosenek
  "Nothing You Wanna Know" oraz "S.C.R.E.A.M.". Płyta została już wyprze
 dana. Zespół zakończył właśnie nagrania swojego drugiego wydawnictwa
 \, tym razem w pełni po Polsku\, której wypuszczenie przewiduje na wrzes
 ień 2019 roku. Pod koniec czerwca zespół wypuścił pierwszy singiel z 
 płyty o tej samej nazwie - "Bawić Się Śmiać".\nPod koniec październi
 ka dwie piosenki z nadchodzącej płyty zostały wykorzystane w wątku fab
 ularnym serialu “Na dobre i na złe” co otworzyło zespoł na nową fa
 lę odbiorców\, którczy licznie sprawdzili zespół w internecie\, zosta
 wiając po sobie całą masę pozytywnego odzewu\, w szczególności do si
 ngla “Ostania Piosenka”. p r e m i e r a . ➊ - ➊ ➋ - ➊ ➒ . p
  r e m i e r a .\n\n> LINKI <\n"Bawić Się Śmiać" .... https://youtu.be
 /ANmxkbqyQoI\n"A Gdybyśmy Tak" .... https://youtu.be/CE1AZH6ry50\n"Ostatn
 ia Piosenka" .. https://youtu.be/kUacXOvHGj4\n\n> Nagrody <\nGrupa mimo st
 osunkowo krótkiego czasu ma już na koncie wiele nagród. Są to między 
 innymi:\n- 1. Miejsce w kategorii "Najlepszy Zespół Rockowy" w plebiscyc
 ie Scyzoryki /Kielce/ 2018\n- 1. Miejsce w Letnim Festiwalu Rocka /Jaworzn
 o/ 2019\n- 1. Miejsce w konkursie ERROR /Barczewo/ 2019\n- 1. Miejsce w ko
 nkursie RockwMok /Międzyrzec Podlaski/ 2019\n- 1. Miejsce w konkursie FLA
 K /W-wa/ 2019\n- 2. Miejsce w finale Rockowanie /Łódź/ 2019\n- 1. Miejs
 ce w konkursie Bands' Battle /W-wa/ 2018\n- 1. Miejsce w eliminacjach na J
 uwenalia PW /W-wa/ 2018\n- 1. Miejsce w konkursie Szafa /W-wa/ 2018\n- 1. 
 Miejsce w konkursie Ursynów Music Fest /W-wa/ 2018\n- 1. Miejsce w konkur
 sie ProRock /Olsztynek/ 2018\n- Wygrana publiczności na konkursie GAPA /W
 -wa/ 2017\n- Finaliści konkursu KortoFest 2018 /Olsztyn/ (Kortowiada)\n- 
 Finaliści konkursu FestMuza 2018 /Olsztyn/\n- Nagroda Specjalna w konkurs
 ie LegaFest /Olecko/ 2019\n\nMy Own Wasteland wystąpiło już jak dotąd 
 na przeróżnych eventach (w tym na Juwenaliach PW '18\, Akademikaliach St
 udnia '18\, Dniach Ursynowa '18 czy Kortowiadzie '18) u boku takich Polski
 ch artystów jak Afromental\, Cleo\, Kult\, Krzysztof Krawczyk\, Wilki\, C
 uba de Zoo\, Farben Lehre\, Małpa\, Łąki Łan czy Chorzy.\n\nFFO: Queen
 s Of The Stone Age\, Royal Blood\, Green Day\, Deftones\n\n\n⚡️ Carol 
 Markovsky -------————\n(Warszawa)\nRock'n'Roll\n\nZespół urodzi
 ł się w grudniu w 2014 roku w Makowie Mazowieckim\, jednak obecnie miesz
 kamy i gramy w Warszawie. Połączyła nas miłość do lat 60. i 70. Bard
 zo dobrze czujemy się w tym klimacie\, dlatego też staramy się oddać d
 ucha tych czasów w utworach\, które tworzymy. Nasza muzyka skłania się
  ku inspiracjom takim jak The Doors\, The Rolling Stones\, Led Zeppelin\, 
 Rival Sons. \n\nMamy za sobą występ razem z Markiem Piekarczykiem podcza
 s warsztatów muzycznych organizowanych przez POKiS w Płocku oraz support
 y takich wykonawców jak Red Lips\, Gazebo\, Cuba de Zoo\, Wilki\, Lady Pa
 nk\, Szymon Wydra&Carpe Diem. Mieliśmy też okazję wystąpić w audycji 
 Programu Pierwszego Polskiego Radia \,\,Jedyne Takie Miejsce Na Ziemi" o P
 ułtusku\, z którym związana jest duża część naszej muzycznej drogi 
 - dwukrotny występ na festiwalu upamiętniającym Krzysztofa Klenczona.\n
 W tym roku wydaliśmy debiutancką EPkę - "Prąd&Jazz".\n\nLINKI:\nhttps:
 //www.youtube.com/channel/UCExnYSNDdR4_SbEvrnghMtQ\nhttps://www.facebook.c
 om/carolmarkovsky/?ref=bookmarks\nhttps://www.instagram.com/carolmarkovsky
 /?hl=pl\n\n"Lubię Krzyczeć O Tobie" Official Video - https://www.youtube
 .com/watch?v=F_Au7ncpOmE\n"Kartonowa Głowa" Live Session - https://www.yo
 utube.com/watch?v=xyv1iyHqLj8\n"Ptak" - https://www.youtube.com/watch?v=_B
 gJw7AmCBo\n\n⚡️ Wszyscy Jemy Chmury ---———\n(Olsztyn / Indie Roc
 k)\n\nWszyscy jemy chmury to zespół\, który powstał z inicjatywy trzec
 h młodych chłopców w 2014 roku\, z okazji potrzeby oraz chęci zagrania
  na apelu szkolnym. Wyszło tak\, że gramy ze sobą do teraz i super się
  przy tym bawimy. Spotkanie naszych gustów muzycznych zaoowocowało muzyk
 ą\, która najlepiej wpisuje się w ramy gatunku indie rock\, jednak lubi
 my czasem zaskoczyć lekkim połamaniem tempa albo czymś równie zaskakuj
 ącym. Zagraliśmy kilka koncertów w różnych miejscach\, ale apetyt ro
 śnie w miarę jedzenia!!\n\nWszyscy Jemy Chmury - będziemy bawić się..
 .:\nhttps://youtu.be/stCTLhfC2WU\n\nInstagram: https://www.instagram.com/w
 szyscyjemychmury/?hl=pl\n\nFacebook: https://m.facebook.com/wszyscyjemychm
 ury
ATTACH;FMTTYPE=image/jpeg:https://night4u.pl/wp-content/uploads/2019/10/68
 891_image_70699151_1300968890084960_3008584974069661696_o.jpg
CATEGORIES:warmińsko-mazurskie
LOCATION:Carpenter Inn Irish Pub\, Stare Miasto 3\, Olsztyn\, 10-900\, Pola
 nd
GEO:53.777251;20.476587
X-APPLE-STRUCTURED-LOCATION;VALUE=URI;X-ADDRESS=Stare Miasto 3\, Olsztyn\, 
 10-900\, Poland;X-APPLE-RADIUS=100;X-TITLE=Carpenter Inn Irish Pub:geo:53.
 777251,20.476587
END:VEVENT
BEGIN:VTIMEZONE
TZID:Europe/Warsaw
X-LIC-LOCATION:Europe/Warsaw
BEGIN:STANDARD
DTSTART:20191027T020000
TZOFFSETFROM:+0200
TZOFFSETTO:+0100
TZNAME:CET
END:STANDARD
END:VTIMEZONE
END:VCALENDAR