BEGIN:VCALENDAR
VERSION:2.0
PRODID:-//wp-events-plugin.com//7.2.3.1//EN
TZID:Europe/Warsaw
X-WR-TIMEZONE:Europe/Warsaw
BEGIN:VEVENT
UID:19718@night4u.pl
DTSTART;TZID=Europe/Warsaw:20190831T210000
DTEND;TZID=Europe/Warsaw:20190901T040000
DTSTAMP:20190619T115248Z
URL:https://night4u.pl/wydarzenia/koncert-piekni-i-mlodzi/
SUMMARY:Koncert Piękni i Młodzi
DESCRIPTION:***************\nUWAGA KONKURS!\nWygraj wejściówkę na koncer
 t:\n1.Lajkuj fanpage Klub Kosmos Zgorzelec\n2.Dołącz do wydarzenia \n3.N
 apisz post i oznacz w nim znajomych z którymi chciałbyś się wybrać na
  imprezę\n***************\n\nPiękni i Młodzi to liderka zespołu Magda 
 Narożna\, Daniel Wilczewski oraz Dawid Narożny. Zespół powstał w 2012
  roku\, ale już może się pochwalić wieloma sukcesami. \n\nNajwiększe 
 przeboje:\n\nPiękni i Młodzi - Zastanawiam się\nwww.youtube.com/watch?v
 =RiyT71--Mdc\n\nPiękni i Młodzi & Playboys - Wyśmienicie NOWOŚĆ 2015\
 nwww.youtube.com/watch?v=CJ6v6P5iEUU\n\nPiękni i Młodzi - Ona jest taka 
 cudowna\nwww.youtube.com/watch?v=cU1C7IzcLnw\n\nPiękni i Młodzi - Niewia
 ra\nwww.youtube.com/watch?v=IfPkYmn-FJ4\n\nPiękni i Młodzi - Kocham się
  w Tobie\nwww.youtube.com/watch?v=M6MIDzlnAME\n\nPiękni i Młodzi - Chcia
 łabym spać z Tobą\nwww.youtube.com/watch?v=dZfrbHuy17U\n\nPiękni i Mł
 odzi - Wiła wianki\nwww.youtube.com/watch?v=ZVP6LEwW5MY\n\nPiękni i Mło
 dzi - Znaki Czasu\nwww.youtube.com/watch?v=MSOWRXU7xho\n\nPiękni i Młodz
 i - Jedno słowo\nwww.youtube.com/watch?v=88b8RJK6Agg\n\n\nNie może Was z
 abraknąć przybywajcie :)\n\nStart 21:00
ATTACH;FMTTYPE=image/jpeg:https://night4u.pl/wp-content/uploads/2019/06/47
 499_image_64309282_2365114933724389_5592106436537614336_o.jpg
CATEGORIES:dolnośląskie
LOCATION:Klub Kosmos Zgorzelec\, Armii Krajowej\, 52A\, Zgorzelec\, 59-900\
 , Poland
GEO:51.15289;15.02758
X-APPLE-STRUCTURED-LOCATION;VALUE=URI;X-ADDRESS=Armii Krajowej\, 52A\, Zgor
 zelec\, 59-900\, Poland;X-APPLE-RADIUS=100;X-TITLE=Klub Kosmos Zgorzelec:g
 eo:51.15289,15.02758
END:VEVENT
BEGIN:VTIMEZONE
TZID:Europe/Warsaw
X-LIC-LOCATION:Europe/Warsaw
BEGIN:DAYLIGHT
DTSTART:20190331T030000
TZOFFSETFROM:+0100
TZOFFSETTO:+0200
TZNAME:CEST
END:DAYLIGHT
END:VTIMEZONE
END:VCALENDAR