BEGIN:VCALENDAR
VERSION:2.0
PRODID:-//wp-events-plugin.com//7.2.3.1//EN
TZID:Europe/Warsaw
X-WR-TIMEZONE:Europe/Warsaw
BEGIN:VEVENT
UID:47406@night4u.pl
DTSTART;TZID=Europe/Warsaw:20200227T200000
DTEND;TZID=Europe/Warsaw:20200227T230000
DTSTAMP:20200331T142256Z
URL:https://night4u.pl/wydarzenia/koncert-podopiecznych-lsim-i-jam-session
 -w-liverpool-27-02/
SUMMARY:Koncert podopiecznych LŚiM i Jam Session w Liverpool / 27.02
DESCRIPTION:Gorąco zapraszamy na energetyzującą muzyczną ucztę w wykon
 aniu naszych podopiecznych. \nPo koncercie\, jak w każdy czwartek\, zapra
 szamy na bluesowo-rockowe Jam Session!\n\nWpadajcie już 27.02 o godzinie 
 20:00 (klub otwarty będzie dla nas od 19:45) i bawcie się świetnie. Do 
 zobaczenia!
ATTACH;FMTTYPE=image/jpeg:https://night4u.pl/wp-content/uploads/2020/02/15
 8344_image_85161468_2827384367308195_6680770596126588928_o.jpg
CATEGORIES:dolnośląskie
LOCATION:Klub Muzyczny Liverpool\, Świdnicka 37\, Wroclaw\, 50-029\, Polan
 d
GEO:51.10401;17.03035
X-APPLE-STRUCTURED-LOCATION;VALUE=URI;X-ADDRESS=Świdnicka 37\, Wroclaw\, 5
 0-029\, Poland;X-APPLE-RADIUS=100;X-TITLE=Klub Muzyczny Liverpool:geo:51.1
 0401,17.03035
END:VEVENT
BEGIN:VTIMEZONE
TZID:Europe/Warsaw
X-LIC-LOCATION:Europe/Warsaw
BEGIN:STANDARD
DTSTART:20191027T020000
TZOFFSETFROM:+0200
TZOFFSETTO:+0100
TZNAME:CET
END:STANDARD
END:VTIMEZONE
END:VCALENDAR