BEGIN:VCALENDAR
VERSION:2.0
PRODID:-//wp-events-plugin.com//7.2.3.1//EN
TZID:Europe/Warsaw
X-WR-TIMEZONE:Europe/Warsaw
BEGIN:VEVENT
UID:34628@night4u.pl
DTSTART;TZID=Europe/Warsaw:20191206T210000
DTEND;TZID=Europe/Warsaw:20191206T233000
DTSTAMP:20200401T082104Z
URL:https://night4u.pl/wydarzenia/koncert-preizol-band-w-awarii/
SUMMARY:Koncert Preizol Band w Awarii
DESCRIPTION:W Awarii gramy cyklicznie od dłuższego czasu. Piwnica na krak
 owskiej starówce pamieta wiele i widziała nie jedno. Miło jest zagrać 
 tu znowu trochę bluesa\, trochę rocka\, ważne że robimy to dla Was bo 
 bez Was nie ma koncertu.
ATTACH;FMTTYPE=image/jpeg:https://night4u.pl/wp-content/uploads/2019/11/89
 986_image_48414081_2134288673301817_4056571575707631616_o.jpg
CATEGORIES:małopolskie
LOCATION:Klub Awaria\, Mikołajska 9\, Kraków\, 31-027\, Poland
GEO:50.06133;19.94207
X-APPLE-STRUCTURED-LOCATION;VALUE=URI;X-ADDRESS=Mikołajska 9\, Kraków\, 3
 1-027\, Poland;X-APPLE-RADIUS=100;X-TITLE=Klub Awaria:geo:50.06133,19.9420
 7
END:VEVENT
BEGIN:VTIMEZONE
TZID:Europe/Warsaw
X-LIC-LOCATION:Europe/Warsaw
BEGIN:STANDARD
DTSTART:20191027T020000
TZOFFSETFROM:+0200
TZOFFSETTO:+0100
TZNAME:CET
END:STANDARD
END:VTIMEZONE
END:VCALENDAR