BEGIN:VCALENDAR
VERSION:2.0
PRODID:-//wp-events-plugin.com//7.2.3.1//EN
TZID:Europe/Warsaw
X-WR-TIMEZONE:Europe/Warsaw
BEGIN:VEVENT
UID:45786@night4u.pl
DTSTART;TZID=Europe/Warsaw:20200304T200000
DTEND;TZID=Europe/Warsaw:20200304T220000
DTSTAMP:20200331T141513Z
URL:https://night4u.pl/wydarzenia/koncert-qba-janicki-intuitive-mathematic
 s-w-uczuleniu/
SUMMARY:Koncert: Qba Janicki „Intuitive Mathematics” w Uczuleniu!
DESCRIPTION:W połowie pierwszego tygodnia marca zapraszamy Was na wyjątko
 wy koncert solowy Qba Janicki\, który zaprezentuje materiał ze swojej os
 tatniej solowej płyty pt.: "Intuitive Mathematics"\n\n👁 ENG below 👁
 \n\n“Matematyka Intuicyjna” to ilustracyjna improwizacja\, zarejestrow
 ana przy użyciu instrumentów perkusyjnych amplifikowanych piezoelektrycz
 nie oraz instrumentu mojej własnej budowy o nazwie “Deska Dźwięków
 ” . \n\nInstrument ten zbudowany jest z metalowych sprężyn\, śrub i j
 ęzyków\, przymocowanych do sosnowej deski. Wysoce wzmocniona amplifikacj
 a piezo przybliża wszystkie dźwięki do uszu słuchacza\, pozwalając us
 łyszeć bogate harmonie zawarte w zestawie perkusyjnym oraz elementy “n
 iemuzyczne” takie jak tarcia\, piski czy drgania\, które zachodzą wewn
 ątrz wysoce rezonującego zestawu mechanizmów. Wszystkie amplifikowane i
 nstrumenty zostają przekierowane do analogowego miksera\, wysyłającego 
 sygnał do głośników znajdujących się za zestawem\, co pozwala grać 
 na ciągłej granicy sprzężenia zwrotnego\, kontrolowanego przez korekcj
 ę częstotliwości\, zmiany napięć poszczególnych membran\, umieszczan
 ie różnego rodzaju elementów na bębnach czy też ułożenie ciała wzg
 lędem zestawu instrumentów oraz głośników. Sygnał z miksera zostaje 
 przetworzony także przez szereg efektów\, co wprowadza słuchacza w świ
 at ciepłej\, analogowej\, elektroakustycznej syntezy.\n\nQba Janicki – 
 ur. 6 lutego 1989 w Bydgoszczy. Aktualnie zamieszkały w Sokołowsku. Wyra
 stający ze środowiska artystycznego zgromadzonego wokół słynnego klub
 u MÓZG. W ciągu ostatnich 15 lat zagrał setki koncertów\, na których 
 występował m.in. z takimi artystami jak Jerzy Mazzoll\, Sławek Janicki\
 , Roscoe Mitchell\, Tomasz Sroczyński\, Toshinori Kondo\, Peter Brotzmann
 \, Kris Wanders czy Fred Frith. Aktualnie zajmuje się pracą w zespołach
  Malediwy z Markiem Pospieszalskim\, Kondensator Przepływu z Bartłomieje
 m Chmarą i Martyną Chojnacką\, Wojtek Mazolewski Quintet\, YO NELLY! ze
  Stevenem Buchananem oraz w nowopowstałych duetach z warszawską kompozyt
 orką Teoniki Rożynek czy belgijskim producentem Obsequies. Oprócz gry n
 a instrumentach\, tworzy także muzykę teatralną współpracując z Maci
 ejem Podstawnym\, Pawłem Łysakiem\, Arturem Pałygą czy Grzegorzem Jare
 mko. Zaznaczył również swoją obecność na scenie hip hopowej produkuj
 ąc płytę HORE\, legendarnego rapera VIENIA. Dodatkowo\, jako współza
 łożyciel MÓZG FOUNDATION\, współpracuje przy organizacji projektów k
 ulturalnych w Bydgoszczy i Warszawie.\n\n/// ENG\n\n"Intuitive Mathematics
 " is an illustrative improvisation\, recorded with the use of a piezoelect
 rically amplified drum set\, percussion and an instrument built by me call
 ed The Soundboard. \n\nThe instrument is made of metal springs\, bolts and
  tongues\, mounted on a pine board. The high-gained piezo amplification br
 ings all the sounds very close to the listener’s ears giving the possibi
 lity to hear all of the rich harmonics of the drumset as well as "non musi
 cal" elements such as grinding of the mechanisms in the hardware\, squeaks
 \, crunches\, trembles etc. that go through a highly resonant set of instr
 uments. All of these amplified instruments are output to an analogue mixer
  and played through full range stereo speakers placed behind the drumset t
 o perform on the edge of constantly feedbacking frequencies\, controlled b
 y equalization\, drumheads tension changes\, placing objects on the drums 
 and the movement of my body in dependence on the speakers. The signal is a
 lso being processed through a set of effects\, which take us further\, int
 o a world of warm\, analogue\, electro-acoustic synthesis.\n\nQba Janicki 
 – born 6th February 1989 in Bydgoszcz\, Poland. Currently living in  Sok
 ołowsko. Growing out of the artistic society gathered around famous club 
 MÓZG. Over last 15 years he performed hundreds of concerts\, during which
  he performed with such personalities as Jerzy Mazzoll\, Sławek Janicki\,
  Roscoe Mitchell\, Tomasz Sroczyński\, Toshinori Kondo\, Peter Brotzmann\
 , Kris Wanders or Fred Frith. Currently he works in such formations as Mal
 ediwy with Marek Pospieszalski\, Kondensator Przepływu with Bartłomiej C
 hmara and Martyna Chojnacka\, Wojtek Mazolewski Quintet\, YO NELLY! with S
 teven Buchanan and recently established duos with composer Teoniki Rożyne
 k and belgian producer Obsequies. Besides playing instruments\, he also co
 mposes music for theatre working with Maciej Podstawny\, Paweł Łysak\, A
 rtur Pałyga and Grzegorz Jaremko. He also made his appearance on the hiph
 op stage\, producing an album HORE by a legendary raper VIENIO of one of t
 he first polish hiphop groups MOLESTA. In addition\, as a co-creator of M
 ÓZG FOUNDATION\, he works on organizing cultural events in Bydgoszcz and 
 Warsaw.\n\nBILETY / TICKETS:  \n20 zł - przedsprzedaż 👉 https://goout
 .net/pl/bilety/qba-janicki/iwhg/\n30 zł - na bramce 🤝
ATTACH;FMTTYPE=image/jpeg:https://night4u.pl/wp-content/uploads/2020/01/14
 8699_image_82818744_870912066673156_1960343320093786112_o.jpg
CATEGORIES:dolnośląskie
LOCATION:Czuła jest noc\, ulica Kolejowa 8\, Wroclaw\, 53-508\, Poland
GEO:51.10137;17.0232
X-APPLE-STRUCTURED-LOCATION;VALUE=URI;X-ADDRESS=ulica Kolejowa 8\, Wroclaw\
 , 53-508\, Poland;X-APPLE-RADIUS=100;X-TITLE=Czuła jest noc:geo:51.10137,
 17.0232
END:VEVENT
BEGIN:VTIMEZONE
TZID:Europe/Warsaw
X-LIC-LOCATION:Europe/Warsaw
BEGIN:STANDARD
DTSTART:20191027T020000
TZOFFSETFROM:+0200
TZOFFSETTO:+0100
TZNAME:CET
END:STANDARD
END:VTIMEZONE
END:VCALENDAR