BEGIN:VCALENDAR
VERSION:2.0
PRODID:-//wp-events-plugin.com//7.2.3.1//EN
TZID:Europe/Warsaw
X-WR-TIMEZONE:Europe/Warsaw
BEGIN:VEVENT
UID:26819@night4u.pl
DTSTART;TZID=Europe/Warsaw:20190914T230000
DTEND;TZID=Europe/Warsaw:20190914T230000
DTSTAMP:20190906T185210Z
URL:https://night4u.pl/wydarzenia/koncert-specyficznych-impreza-taneczna-3
 /
SUMMARY:Koncert Specyficznych / Impreza Taneczna/
DESCRIPTION:Wieczór uświetnią Wasi ulubieńcy - Specyficzni\n\nSpecyficz
 ni to grupa młodych ludzi w podeszłym już wieku.\nFanatycy Polki i Krak
 owiaka. Na koncertach dają z siebie wszystko\, wylewają pot\, wyciskają
  łzy.\nNietuzinkowy talent wokalisty sprawia\, że publiczność jest zac
 hwycona akrobacjami cyrkowymi jak i akrobacjami dźwięku.\n\nNiesamowity 
 Hybert Biczkowsky niejednokrotnie doprowadzał publiczność (szczególnie
  płci pięknej) w Rock House do ekstazy.\n\nWrażenia akustyczne jak i wi
 zualne na najwyższym poziomie gwarantowane!!!!!!!
ATTACH;FMTTYPE=image/jpeg:https://night4u.pl/wp-content/uploads/2019/09/62
 542_image_69516722_2603718129667638_1838732317539958784_n.jpg
CATEGORIES:zachodniopomorskie
LOCATION:Rock House Club Stargard\, Słowackiego 11\, Stargard\, 73-110\, P
 oland
GEO:53.34282;15.03158
X-APPLE-STRUCTURED-LOCATION;VALUE=URI;X-ADDRESS=Słowackiego 11\, Stargard\
 , 73-110\, Poland;X-APPLE-RADIUS=100;X-TITLE=Rock House Club Stargard:geo:
 53.34282,15.03158
END:VEVENT
BEGIN:VTIMEZONE
TZID:Europe/Warsaw
X-LIC-LOCATION:Europe/Warsaw
BEGIN:DAYLIGHT
DTSTART:20190331T030000
TZOFFSETFROM:+0100
TZOFFSETTO:+0200
TZNAME:CEST
END:DAYLIGHT
END:VTIMEZONE
END:VCALENDAR