BEGIN:VCALENDAR
VERSION:2.0
PRODID:-//wp-events-plugin.com//7.2.3.1//EN
TZID:Europe/Warsaw
X-WR-TIMEZONE:Europe/Warsaw
BEGIN:VEVENT
UID:10077@night4u.pl
DTSTART;TZID=Europe/Warsaw:20190405T190000
DTEND;TZID=Europe/Warsaw:20190405T235900
DTSTAMP:20190414T211703Z
URL:https://night4u.pl/wydarzenia/koncert-the-bill-mexyk-danziger-ii-gdans
 k/
SUMMARY:Koncert: The Bill / Mexyk / Danziger II Gdańsk
DESCRIPTION:Roadhog Booking oraz Klub Metro zapraszają!\n\nTHE BILL\nFB: h
 ttps://www.facebook.com/thebillpunkband/\n\nMEXYK\nFB: https://www.faceboo
 k.com/mexyk.band/\n'Reżimowa'\n\n\nDANZIGER\nFB: https://www.facebook.com
 /danzigerband/\n'Rządy Idiotów'\n\n\nTHE BILL\nThe Bill powstał w 1986r
  w Pionkach z inicjatywy Kefira i Skóry. Pierwsze lata działalności\, t
 o głównie próby\, koncerty na lokalnych scenach i...częste zmiany skł
 adu. Ostateczny skład zespołu z tego okresu\, to : Skóra\, Kefir\, Soko
 \, Mielony. W 1990 The Bill'a opuszcza Skóra\, a na wokalu jego miejsce z
 ajmuje Soko. Zespół w składzie trzyosobowym zostaje zaproszony do Jaroc
 ina '92 i zdobywa tam nagrodę publiczności. Fakt ten\, rozpoczyna kolejn
 y etap działalności. Pojawia się pierwsza płyta "The Biut". Jej sprzed
 aż zaskakuje wszystkich. W ciągu kilku tygodni\, sprzedaje się około 6
 0000 egzemplarzy. Zespół koncertuje\, zalicza kolejne festiwale jarociń
 skie\, jednocześnie przygotowując kolejne płyty. Pojawiają się: "Pocz
 ątek Końca" i "Sex and Roll". Latem 1996 roku The Bill nagrywa czwartą 
 płytę "Daję Wam Ogień" i ....zawiesza działalność na 8 lat. W 2004 
 roku The Bill wraca na scenę i okazuje się\, że o nim nie zapomniano. M
 iejsce Soka\, grającego na basie zajmuje Maciek. Wokalistą zespołu zost
 aje Kefir\, który gra również na gitarze. Za perkusją\, bez zmian zasi
 ada Mielony. W 2007 roku ukazuje się piąta płyta "Niech Tańczą Anioł
 owie". A zaraz po niej zespół wydaje archiwalny materiał z lat 1988-199
 0 zatytułowany "Lekcja Historii". Rok 2009 rozpoczyna się dla The Bill'a
  udziałem w wielkiej trasie koncertowej "Punky Reggae Live". Tu zespół 
 poznaje Sebka\, gitarzystę zespołu Strajk. Pada propozycja wspólnego gr
 ania i od tej pory The Bill to kwartet. W tym składzie nagrał materiał 
 na siódmą płytę. "Historie Prawdziwe"\, która pojawiła się w 2009 r
 oku. Jednocześnie firma Lou Rocket Boys wydaje materiał archiwalny z lat
  86-90.Płyta nosi tytuł "Lekcja Historii". W 2010 roku odchodzi Maciek S
 tępień a rok później Robert "Mielony" Mielniczuk. Miejsce za bębnami 
 zajmuje Artur "Artie" Woźniak a na basie Gerard Chodyra. Kolejne lata to 
 ciągłe koncerty w salach klubowych i na festiwalach. W 2013 The Bill wyd
 aję płytę "8siem". W tym samym roku pojawia się płyta the best\, wyda
 na przez MTJ. Zaraz potem miejsce Sebka zajmuje Jędrek. W tym składzie z
 espół występuje na dużej scenie festiwalu Woodstock 2014. Zapis tego k
 oncertu ukazuje się na płycie CD. Pod koniec wakacji 2014r. Polskę opus
 zcza Arti\, co oznacza kolejną zmianę w kapeli. Tym razem perkusistą Th
 e Billa zostaje Łukasz "Ringo" Nowak\, a skład uzupełnia w 2015r basist
 a Ludomir "Ludek" Szymański. Zespół The BIll to znowu kapela "pionkowsk
 a". Lata 2016-17 to liczne koncerty w klubach oraz festiwalach rockowych m
 in. Woodstock 2017\, Czochraj Bobra\, Izerbejdżan Punk Fest. Zespół jes
 t stałym gościem krakowskiego Punk Festu\, największej punkowej imprezy
  w Polsce. \n\nMEXYK\nOdkrycie 2017r. na miarę San Escobar! Zdobywcy m.in
 . I miejsca na XXI Mayday Rock Festival Głogów 2017\, III miejsca na New
  York Festival 2017/2018\, nagrody Prezydenta Miasta Gdańska w XIII Konku
 rsie Piosenek Grzegorza Ciechowskiego\, I miejsca na 9 Free Art Fest From 
 Poland’18 oraz głównej nagrody w konkursie Rockowanie 2018 – gramy B
 rylewskiego. Znani z akcji T.Cover i nietuzinkowej interpretacji numeru "T
 o Wychowanie". Pisały już o nich m.in. Antyradio\, Eska Rock\, Teraz Roc
 k\, czy KVLT. Mexykańskie "Wychowanie" dotarło do 2 miejsca na liście T
 urbo Top w Antyradiu. Supportowali m.in. Hunter'a czy Sztywny Pal Azji.\nS
 tyl muzyczny Mexyku jest wypadkową różnych inspiracji\, a całości dop
 ełnia charyzmatyczny i charakterystyczny wokal\, który w swoim przekazie
  bezpardonowo i celnie rozprawia się z otaczającą nas codzienną rzeczy
 wistością. Można pewnie powiedzieć\, że to rapcore\, ale nazywajcie t
 o jak chcecie\, to po prostu Mexyk!\n\nDANZIGER\nNazywamy się Danziger\, 
 jest nas trzech\, jesteśmy z Gdańska\, gramy muzykę głośną\, szybką
 \, lekką\, łatwą i przyjemną. Początki zespołu kronikarze datują ju
 ż na rok 2014\, aczkolwiek z powodu różnych problemów (porwanie perkus
 isty przez Marsjan\, mutacja ciała gitarzysty polegająca na zamianie rą
 k na szczękoczułki)\, wciąż nie jesteśmy jeszcze gwiazdami. Jesteśmy
  już jednak w pełni profesjonalnym zespołem\, o czym świadczy jedynie 
 ta strona. W 2017 wydaliśmy pierwszą EPkę\, a w 2018... drugą EPkę. N
 ie umiemy grać\, więc możemy być drugimi Sex Pistols\, jesteśmy brzyd
 cy\, więc możemy być drugimi Rolling Stonesami\, nie lubimy faszyzmu\, 
 więc jesteśmy zdrajcami narodu. \n\nSTART: 19:00\nWJAZD: 25 zł (przedsp
 rzedaż - bilety dostępne w klubie) 35 zł (w dniu koncertu)
ATTACH;FMTTYPE=image/jpeg:https://night4u.pl/wp-content/uploads/2019/03/26
 647_image_53264655_381955515869304_836606620774432768_o.jpg
CATEGORIES:pomorskie
LOCATION:Klub Medyk\, ul. Dębowa 7\, Gdansk\, 80-204\, Poland
GEO:54.361387;18.629299
X-APPLE-STRUCTURED-LOCATION;VALUE=URI;X-ADDRESS=ul. Dębowa 7\, Gdansk\, 80
 -204\, Poland;X-APPLE-RADIUS=100;X-TITLE=Klub Medyk:geo:54.361387,18.62929
 9
END:VEVENT
BEGIN:VTIMEZONE
TZID:Europe/Warsaw
X-LIC-LOCATION:Europe/Warsaw
BEGIN:DAYLIGHT
DTSTART:20190331T030000
TZOFFSETFROM:+0100
TZOFFSETTO:+0200
TZNAME:CEST
END:DAYLIGHT
END:VTIMEZONE
END:VCALENDAR