BEGIN:VCALENDAR
VERSION:2.0
PRODID:-//wp-events-plugin.com//7.2.3.1//EN
TZID:Europe/Warsaw
X-WR-TIMEZONE:Europe/Warsaw
BEGIN:VEVENT
UID:45629@night4u.pl
DTSTART;TZID=Europe/Warsaw:20211009T190000
DTEND;TZID=Europe/Warsaw:20211009T233000
DTSTAMP:20210908T144734Z
URL:https://night4u.pl/wydarzenia/koncert-turbo-40-lecie-w-lublinie-suppor
 t/
SUMMARY:Koncert TURBO (40-lecie) w Lublinie + Deltha i Bloody Daisy
DESCRIPTION:Mamy nadzieję\, że to już ostatnie ustalanie terminu tego wy
 darzenia.\n\nKoncert przeniesiony z 20.03.2021.\nNowy termin koncertu to 0
 9.10.2021 - bilety zachowują ważność!\n\nKONCERT TURBO w LUBLINIE\nDat
 a: 09.10.2021 (sobota)\nMiejsce: Klub Graffiti\, Al. Piłsudskiego 13\, Lu
 blin\n\n19:00 - otwarcie drzwi\n19:30 - Deltha (Lublin)\n20:30 - Blood Dai
 sy\n21:30 - TURBO\n--------------------------------------------\nBilety on
 line w cenie 45 zł dostępne tutaj:\nhttps://www.kupbilecik.pl/imprezy/49
 080/Lublin/Koncert+TURBO/\n\nPrzedsprzedaż w następujących punktach sta
 cjonarnych w cenie 40 zł:\nTeleSerwis24 (Al. Piłsudskiego 13) - w godz. 
 10-18\nMonument (Krakowskie Przedmieście 55) - w godz. 10-18\n\nBilety na
  bramce w dniu koncertu w cenie 50 zł\n----------------------------------
 ---------\nTurbo - legenda polskiego heavy metalu - zawita do Lublina\, do
  Klubu Graffiti.\n\nW 2020 roku zespół Turbo obchodził 40-lecie istnien
 ia i z tej okazji zaprezentuje program przekrojowy (z wydłużoną setlist
 ą)\, podsumowujący dotychczasową działalność.\nPojawią się utwory 
 z większości wydawnictw Turbo\, dlatego mamy nadzieję\, że każdy kto 
 przyjdzie znajdzie coś dla siebie.\n\nGrupa powstała w styczniu 1980 rok
 u w Poznaniu\, a jej liderem jest wybitny polski gitarzysta Wojciech Hoffm
 ann.\nZespół zagrał tysiące koncertów w Polsce\, biorąc udział w wi
 elu istotnych festiwalach rockowych i metalowych. Grupa kilkukrotnie wyje
 żdżała koncertować poza granice ojczyzny\, między innymi do Austrii\,
  Czech\, Irlandii\, Niemiec\, Słowacji\, Szwecji\, Wielkiej Brytanii\, a 
 ostatnio także do Rosji.\n\nW trakcie swojej kariery zespół miał przyj
 emność grać na tej samej scenie między innymi z takimi wykonawcami jak
 : Hanoi Rocks\, Pretty Maids\, Helloween\, Running Wild\, Overkill\, Kreat
 or\, Citron\, Sepultura\, Deep Purple\, Uriah Heep.\n\nFormacja posiada w 
 swoim dorobku sporo wydawnictw\, w tym dwanaście albumów studyjnych. Wś
 ród nich znajdują się „Dorosłe dzieci”\, „Kawaleria szatana”\,
  „Ostatni wojownik”\, „Strażnik światła” i jak dotąd ostatnia 
 płyta studyjna grupy „Piąty żywioł”.\n\nObecnie zespół przygotow
 uje wydanie płyty podsumowującej 40 lat działalności. Album ukaże si
 ę w 13.11.2020 roku.\n--------------------------------------------\nBlood
 y Daisy\nZespół działa od dość dawna. Z drobnymi przerwami i zawirowa
 niami historia ciągnie się od około 20 lat\, a pod szyldem Bloody Daisy
  od roku 2017.\n\nMuzycy grający w zespole inspirowali się odmiennymi ga
 tunkami muzycznymi w wyniku czego powstał nieformalny gatunek muzyczny Mi
 lky Metal®\, który polega głównie na graniu nierówno\, ale za to nie 
 w tonacji.\n\nW 2018 roku powstała epka zatytułowana "Schiz". Utwory cha
 rakteryzuje ciężkie brzmienie oraz surowe\, dosadne teksty. W chwili obe
 cnej zespół pracuje nad nagraniem nowej płyty\, realizacją klipu oraz 
 wiosenną trasą koncertową.\n-------------------------------------------
 -\nDELTHA - ekipa z Lublina grająca muzykę wpisującą się w nową fal
 ę tradycyjnego heavy metalu (NWOTHM). Ich ciężkie\, klasyczne brzmienie
  i oldschoolowy feel\, inspirowany jest takimi nieśmiertelnymi ikonami ja
 k Iron Maiden czy Judas Priest. Na podwalinach muzycznych legend z lat 80'
  oraz w oparciu o brzmienia rodzimych kapel\, takich jak Acid Drinkers czy
  Thermit\, tworzą własną\, niepowtarzalną wersję tego gatunku.\n\nGru
 pa aktualnie jest w trakcie nagrywania pierwszego albumu długogrającego\
 , z którego kilka utworów zaprezentuje podczas koncertu.
ATTACH;FMTTYPE=image/jpeg:https://night4u.pl/wp-content/uploads/2021/04/14
 8104_image_84510724_2652383608132409_7415676578924855296_n.jpg
CATEGORIES:lubelskie
LOCATION:Klub Graffiti\, Al. Piłsudskiego 13\, Lublin\, 20-011\, Poland
GEO:51.240325;22.557024
X-APPLE-STRUCTURED-LOCATION;VALUE=URI;X-ADDRESS=Al. Piłsudskiego 13\, Lubl
 in\, 20-011\, Poland;X-APPLE-RADIUS=100;X-TITLE=Klub Graffiti:geo:51.24032
 5,22.557024
END:VEVENT
BEGIN:VTIMEZONE
TZID:Europe/Warsaw
X-LIC-LOCATION:Europe/Warsaw
BEGIN:DAYLIGHT
DTSTART:20210328T030000
TZOFFSETFROM:+0100
TZOFFSETTO:+0200
TZNAME:CEST
END:DAYLIGHT
END:VTIMEZONE
END:VCALENDAR