BEGIN:VCALENDAR
VERSION:2.0
PRODID:-//wp-events-plugin.com//7.2.3.1//EN
TZID:Europe/Warsaw
X-WR-TIMEZONE:Europe/Warsaw
BEGIN:VEVENT
UID:28417@night4u.pl
DTSTART;TZID=Europe/Warsaw:20191023T190000
DTEND;TZID=Europe/Warsaw:20191023T210000
DTSTAMP:20191023T021717Z
URL:https://night4u.pl/wydarzenia/koncert-z-okazji-71-rocznicy-powstania-p
 anstwa-izrael/
SUMMARY:Koncert akustyczny: Gaba Kulka &amp\; Maya Isac
DESCRIPTION:Lista gości jest już zamknięta! Brak możliwości uzyskania 
 zaproszenia!\n\nKoncert ma na celu upamiętnienie powstania Izraela oraz p
 odkreślenie wspólnych polsko-izraelskich związków kulturowych i histor
 ycznych.\n\nWystąpią: Maya Isacowitz i Gaba Kulka\n\nMaya Isacowitz (z
 nana też jako Maya Isac) urodziła się w 1987 r. w Izraelu. Jej rodzina 
 przybyła do Izraela z Republiki Południowej Afryki. Tworzy w języku ang
 ielskim.\nMuzykę komponuje od 14 roku życia\, a mając 21 lat wydała de
 biutancki album pt. „Safe &amp\; Sound”\, który uzyskał status Złot
 ej Płyty. W 2012 r. zdobyła nagrodę ACUM – izraelskiego stowarzyszeni
 a twórców.\nW 2015 r. wyjechała do Stanów Zjednoczonych\, wydała now
 ą płytę i występowała na kilku amerykańskich festiwalach\, m.in. Sou
 th by Southwest\, Mountain Jam oraz jako artystka otwierająca koncert Suz
 anne Vega. W lutym 2019 r. wydała nowy singiel „Sparkle”\, którego p
 roducentem jest Tomer Yosef.\nhttps://www.mayaisac.com/\n\nGaba Kulka - po
 lska pianistka\, piosenkarka i autorka tekstów. Styl\, który prezentuje\
 , to połączenie jazzu\, rocka\, poezji śpiewanej oraz brzmień musicalo
 wych i teatralnych. Sama wokalistka nazywa swoją muzykę progresywnym pop
 em. We wszystkich utworach wykorzystywany jest fortepian. Wydała trzy aut
 orskie płyty\, które zdobyły liczne wyrazy uznania ze strony słuchaczy
  i krytyków. W swojej twórczości inspiruje się głównie muzyką Kate 
 Bush oraz Tori Amos i do tych wykonawczyń jest często porównywana. Zdob
 ywczyni Fryderyka 2010 jako Wokalistka Roku.\n\nWstęp wolny (obowiązuje 
 potwierdzenie udziału w koncercie na adres: kontakt@israel.pl)\n\nPatrona
 t Honorowy Ambasady Izraela \n\nDofinansowano ze środków Narodowego Cent
 rum Kultury w ramach Programu Kultura – Interwencje 2019.
ATTACH;FMTTYPE=image/jpeg:https://night4u.pl/wp-content/uploads/2019/09/65
 827_image_71563394_10159068793457818_9074014798244478976_o.jpg
CATEGORIES:mazowieckie
LOCATION:Hybrydy\, Złota 7/9\, Warsaw\, 00-019\, Poland
GEO:52.23268;21.01157
X-APPLE-STRUCTURED-LOCATION;VALUE=URI;X-ADDRESS=Złota 7/9\, Warsaw\, 00-01
 9\, Poland;X-APPLE-RADIUS=100;X-TITLE=Hybrydy:geo:52.23268,21.01157
END:VEVENT
BEGIN:VTIMEZONE
TZID:Europe/Warsaw
X-LIC-LOCATION:Europe/Warsaw
BEGIN:DAYLIGHT
DTSTART:20190331T030000
TZOFFSETFROM:+0100
TZOFFSETTO:+0200
TZNAME:CEST
END:DAYLIGHT
END:VTIMEZONE
END:VCALENDAR