BEGIN:VCALENDAR
VERSION:2.0
PRODID:-//wp-events-plugin.com//7.2.3.1//EN
TZID:Europe/Warsaw
X-WR-TIMEZONE:Europe/Warsaw
BEGIN:VEVENT
UID:20018@night4u.pl
DTSTART;TZID=Europe/Warsaw:20190706T210000
DTEND;TZID=Europe/Warsaw:20190707T000000
DTSTAMP:20190625T183412Z
URL:https://night4u.pl/wydarzenia/koncert-zespolu-seven-dj-yooshi/
SUMMARY:Koncert zespołu Seven\, Dj Yooshi
DESCRIPTION:W sobotę 6 lipca po raz pierwszy w Explosion zespół SEVEN !!
 !\nusłyszymy takie przeboje jak: \n"Życie woła nas" \nhttps://www.youtu
 be.com/watch?v=lePTPraFpiY\n"Okrążę cały świat"\nhttps://www.youtube.
 com/watch?v=G-8_o4mCl4w\n"Każdy dzień każda noc" \nhttps://www.youtube.
 com/watch?v=8Ih5Yigxa20\n\nza konsolą DJ YOOSHI\n\ndata: 6 lipca\nwstęp:
  15 zl \npoczątek g. 21.00
ATTACH;FMTTYPE=image/jpeg:https://night4u.pl/wp-content/uploads/2019/06/48
 152_image_65394366_1645541112244670_3589812152229167104_o.jpg
CATEGORIES:mazowieckie
LOCATION:Explosion Club\, Wał Miedzeszyński 646\, Gocław\, 03-994\, Pola
 nd
GEO:52.221503;21.084759
X-APPLE-STRUCTURED-LOCATION;VALUE=URI;X-ADDRESS=Wał Miedzeszyński 646\, G
 ocław\, 03-994\, Poland;X-APPLE-RADIUS=100;X-TITLE=Explosion Club:geo:52.
 221503,21.084759
END:VEVENT
BEGIN:VTIMEZONE
TZID:Europe/Warsaw
X-LIC-LOCATION:Europe/Warsaw
BEGIN:DAYLIGHT
DTSTART:20190331T030000
TZOFFSETFROM:+0100
TZOFFSETTO:+0200
TZNAME:CEST
END:DAYLIGHT
END:VTIMEZONE
END:VCALENDAR