BEGIN:VCALENDAR
VERSION:2.0
PRODID:-//wp-events-plugin.com//7.2.3.1//EN
TZID:Europe/Warsaw
X-WR-TIMEZONE:Europe/Warsaw
BEGIN:VEVENT
UID:45606@night4u.pl
DTSTART;TZID=Europe/Warsaw:20200404T190000
DTEND;TZID=Europe/Warsaw:20200404T210000
DTSTAMP:20200404T001538Z
URL:https://night4u.pl/wydarzenia/koncertujaca-wielkanoc/
SUMMARY:Koncertująca Wielkanoc
DESCRIPTION:Wielkanoc na koncertowo? Owszem\, ale pod warunkiem\, że u bok
 u Elbląskiej Orkiestry Kameralnej i Iwony Lubowicz\, pod batutą Adama Ba
 naszaka - już 4 kwietnia w Sali Koncertowej Zespołu Państwowych Szkół
  Muzycznych.\n\n04.04.2020\, sobota\, 19:00\nSala Koncertowa Zespołu Pań
 stwowych Szkół Muzycznych w Elblągu\n\n Wykonawcy:\nAdam Banaszak - dyr
 ygent\nIwona Lubowicz – sopran\nElbląska Orkiestra Kameralna\n\n W prog
 ramie m.in.\nG. Puccini – Crisantemi\nA. Part – Summa\nL. Boccherini -
  Stabat Mater\n\nRezerwacje:\nBiuro Koncertowe\, Ratusz Staromiejski\,\nte
 l. 55 237 47 49\, www.eok.elblag.eu          \nBilety: 40 zł (normalny)\,
  30 zł (ulgowy)             \nSprawdź zniżki z Elbląską Kartą Dużej
  Rodziny \n\n \nSponsor Główny Elbląskiej Orkiestry Kameralnej: Meble W
 ójcik\nSponsor Elbląskiej Orkiestry Kameralnej: Metal Expert Sp. J.\,\nM
 eble Wójcik jest Fundatorem Głównym Instrumentów Elbląskiej Orkiestry
  Kameralnej
ATTACH;FMTTYPE=image/jpeg:https://night4u.pl/wp-content/uploads/2020/01/14
 8048_image_83292807_2845096498885174_5007250251531157504_o.jpg
CATEGORIES:warmińsko-mazurskie
LOCATION:Elbląska Orkiestra Kameralna\, Stary Rynek 25\, Elblag\, 82-300\,
  Poland
GEO:50.289339;18.984375
X-APPLE-STRUCTURED-LOCATION;VALUE=URI;X-ADDRESS=Stary Rynek 25\, Elblag\, 8
 2-300\, Poland;X-APPLE-RADIUS=100;X-TITLE=Elbląska Orkiestra Kameralna:ge
 o:50.289339,18.984375
END:VEVENT
BEGIN:VTIMEZONE
TZID:Europe/Warsaw
X-LIC-LOCATION:Europe/Warsaw
BEGIN:DAYLIGHT
DTSTART:20200329T030000
TZOFFSETFROM:+0100
TZOFFSETTO:+0200
TZNAME:CEST
END:DAYLIGHT
END:VTIMEZONE
END:VCALENDAR