BEGIN:VCALENDAR
VERSION:2.0
PRODID:-//wp-events-plugin.com//7.2.3.1//EN
TZID:Europe/Warsaw
X-WR-TIMEZONE:Europe/Warsaw
BEGIN:VEVENT
UID:46643@night4u.pl
DTSTART;TZID=Europe/Warsaw:20200215T210000
DTEND;TZID=Europe/Warsaw:20200216T050000
DTSTAMP:20200215T110251Z
URL:https://night4u.pl/wydarzenia/konfrontacja-z-weekendem-wide-komar-6/
SUMMARY:Konfrontacja z weekendem / Wide &amp\; Komar
DESCRIPTION:DJ KOMAR oraz Wide wkraczją do akcji! Ci Panowie wiedzą co ro
 bią i gwarantujemy\, tej imprezy nie pożałujecie &lt\;3\n\nWstęp:\nDo 
 21-ej wstęp darmowy\npóźniej 10zł\npo północy 15zł\nhttp://facebook
 .com/Bunkierclub\nul.Olejarna 3\, otwieramy 17:00\, start imprezy 21:00\nR
 ezerwacje:\nbiuro@bunkierclub.pl\n530 917 788\n\nPatronat: \nRadio Eska\nh
 ttp://trojmiasto.pl/\nhttp://www.pitupitu.pl/\n\n————————
 ——————————————————\n\n[PL] Bunkier to 
 5 kondygnacji kultury i rozrywki\, 2 bary\, 2 sale koncertowo-imprezowe\, 
 galeria z możliwością zakupu wystawianych prac oraz pub\, gdzie filozof
 icznym dysputom towarzyszy smakowita strawa dla ciała.\n\n[ENG] 5 floors 
 of culture and entertainment\, 2 bars\, 2 concert and party rooms\, a gall
 ery providing a possibility of buying exhibited works and a pub\, where yo
 u may enjoy good food and engage in philosophical debates.\n\nBUNKIER - PO
  PROSTU MUSISZ TEGO DOŚWIADCZYĆ!
ATTACH;FMTTYPE=image/jpeg:https://night4u.pl/wp-content/uploads/2020/02/15
 3325_image_83166242_3043480699017766_4011865583246114816_o.jpg
CATEGORIES:pomorskie
LOCATION:Bunkier\, Olejarna 3\, Gdansk\, 80-843\, Poland
GEO:54.35446;18.65466
X-APPLE-STRUCTURED-LOCATION;VALUE=URI;X-ADDRESS=Olejarna 3\, Gdansk\, 80-84
 3\, Poland;X-APPLE-RADIUS=100;X-TITLE=Bunkier:geo:54.35446,18.65466
END:VEVENT
BEGIN:VTIMEZONE
TZID:Europe/Warsaw
X-LIC-LOCATION:Europe/Warsaw
BEGIN:STANDARD
DTSTART:20191027T020000
TZOFFSETFROM:+0200
TZOFFSETTO:+0100
TZNAME:CET
END:STANDARD
END:VTIMEZONE
END:VCALENDAR