BEGIN:VCALENDAR
VERSION:2.0
PRODID:-//wp-events-plugin.com//7.2.3.1//EN
TZID:Europe/Warsaw
X-WR-TIMEZONE:Europe/Warsaw
BEGIN:VEVENT
UID:21027@night4u.pl
DTSTART;TZID=Europe/Warsaw:20190719T193000
DTEND;TZID=Europe/Warsaw:20190719T223000
DTSTAMP:20190704T024652Z
URL:https://night4u.pl/wydarzenia/kopnij-raka-w-dupe/
SUMMARY:Kopnij RAKA W DUPĘ
DESCRIPTION:Maciej to jest równy gość! ??? Przed chorobą grał na gitar
 ze ???\,\, bawił się świetnie z przyjaciółmi ?‍♀️?‍♂️ i m
 iał życie jak każdy z nas. Niestety choroba postawiła mu wyzwanie ⛔
 ️?. Kiedyś każdy mógł na niego liczyć\, teraz on liczy na nas! ? Po
  tym jak wykryto u niego nowotwór\, a następnie przerzuty i...kolejne pr
 zerzuty życie Macieja trochę się zmieniło. Teraz nie gra już na gitar
 ze ?\, ani nawet nie prowadzi samochodu ??. Na szczęście wciąż ma nas 
 i Was! ??\n\nDlatego comiesięczną akcję charytatywna dedykujemy właśn
 ie Maciejowi\, który ze względu na kosztowne leczenie potrzebuje wsparci
 a nie tylko psychicznego ???. Możecie go udzielić na portalu zrzutka:\n\
 n➡️ https://zrzutka.pl/uszczypnijraka\n\nlub przychodząc akcję chary
 tatywną\, podczas której:\n✅ odbędą się koncery\,\n✅ będzie moż
 na zakupić fanty\, z których cały dochód przeznaczony zostanie na lecz
 enie Macieja\,\n✅ będziecie mogli wypić za zdrowie Macieja specjalnie 
 dedykowanym dla niego piwem.\n\nCzekajcie na dalsze informacje i...kopnijm
 y raka w dupę!
ATTACH;FMTTYPE=image/jpeg:https://night4u.pl/wp-content/uploads/2019/07/50
 234_image_65921355_2620531734623745_5054643162648150016_o.jpg
CATEGORIES:wielkopolskie
LOCATION:Amore del Tropico\, Ratajczaka 26/2\, Poznan\, 61-815\, Poland
GEO:52.405425;16.925737
X-APPLE-STRUCTURED-LOCATION;VALUE=URI;X-ADDRESS=Ratajczaka 26/2\, Poznan\, 
 61-815\, Poland;X-APPLE-RADIUS=100;X-TITLE=Amore del Tropico:geo:52.405425
 ,16.925737
END:VEVENT
BEGIN:VTIMEZONE
TZID:Europe/Warsaw
X-LIC-LOCATION:Europe/Warsaw
BEGIN:DAYLIGHT
DTSTART:20190331T030000
TZOFFSETFROM:+0100
TZOFFSETTO:+0200
TZNAME:CEST
END:DAYLIGHT
END:VTIMEZONE
END:VCALENDAR